BEGIN:VCALENDAR
VERSION:2.0
PRODID:-//Zusammen Wachsen - ECPv6.15.15//NONSGML v1.0//EN
CALSCALE:GREGORIAN
METHOD:PUBLISH
X-ORIGINAL-URL:https://zusammen-wachsen.dog
X-WR-CALDESC:Veranstaltungen für Zusammen Wachsen
REFRESH-INTERVAL;VALUE=DURATION:PT1H
X-Robots-Tag:noindex
X-PUBLISHED-TTL:PT1H
BEGIN:VTIMEZONE
TZID:Europe/Paris
BEGIN:DAYLIGHT
TZOFFSETFROM:+0100
TZOFFSETTO:+0200
TZNAME:CEST
DTSTART:20230326T010000
END:DAYLIGHT
BEGIN:STANDARD
TZOFFSETFROM:+0200
TZOFFSETTO:+0100
TZNAME:CET
DTSTART:20231029T010000
END:STANDARD
BEGIN:DAYLIGHT
TZOFFSETFROM:+0100
TZOFFSETTO:+0200
TZNAME:CEST
DTSTART:20240331T010000
END:DAYLIGHT
BEGIN:STANDARD
TZOFFSETFROM:+0200
TZOFFSETTO:+0100
TZNAME:CET
DTSTART:20241027T010000
END:STANDARD
BEGIN:DAYLIGHT
TZOFFSETFROM:+0100
TZOFFSETTO:+0200
TZNAME:CEST
DTSTART:20250330T010000
END:DAYLIGHT
BEGIN:STANDARD
TZOFFSETFROM:+0200
TZOFFSETTO:+0100
TZNAME:CET
DTSTART:20251026T010000
END:STANDARD
END:VTIMEZONE
BEGIN:VEVENT
DTSTART;TZID=Europe/Paris:20241013T100000
DTEND;TZID=Europe/Paris:20241013T120000
DTSTAMP:20260423T035354
CREATED:20240610T041844Z
LAST-MODIFIED:20241007T093053Z
UID:688-1728813600-1728820800@zusammen-wachsen.dog
SUMMARY:Wanderung
DESCRIPTION:
URL:https://zusammen-wachsen.dog/event/wanderung-8/
CATEGORIES:Event
ATTACH;FMTTYPE=image/png:https://zusammen-wachsen.dog/wp-content/uploads/2024/10/Wanderung_20240916_140549_0000.png
END:VEVENT
END:VCALENDAR