BEGIN:VCALENDAR
VERSION:2.0
PRODID:-//Zusammen Wachsen - ECPv6.15.15//NONSGML v1.0//EN
CALSCALE:GREGORIAN
METHOD:PUBLISH
X-WR-CALNAME:Zusammen Wachsen
X-ORIGINAL-URL:https://zusammen-wachsen.dog
X-WR-CALDESC:Veranstaltungen für Zusammen Wachsen
REFRESH-INTERVAL;VALUE=DURATION:PT1H
X-Robots-Tag:noindex
X-PUBLISHED-TTL:PT1H
BEGIN:VTIMEZONE
TZID:Europe/Paris
BEGIN:DAYLIGHT
TZOFFSETFROM:+0100
TZOFFSETTO:+0200
TZNAME:CEST
DTSTART:20240331T010000
END:DAYLIGHT
BEGIN:STANDARD
TZOFFSETFROM:+0200
TZOFFSETTO:+0100
TZNAME:CET
DTSTART:20241027T010000
END:STANDARD
BEGIN:DAYLIGHT
TZOFFSETFROM:+0100
TZOFFSETTO:+0200
TZNAME:CEST
DTSTART:20250330T010000
END:DAYLIGHT
BEGIN:STANDARD
TZOFFSETFROM:+0200
TZOFFSETTO:+0100
TZNAME:CET
DTSTART:20251026T010000
END:STANDARD
BEGIN:DAYLIGHT
TZOFFSETFROM:+0100
TZOFFSETTO:+0200
TZNAME:CEST
DTSTART:20260329T010000
END:DAYLIGHT
BEGIN:STANDARD
TZOFFSETFROM:+0200
TZOFFSETTO:+0100
TZNAME:CET
DTSTART:20261025T010000
END:STANDARD
END:VTIMEZONE
BEGIN:VEVENT
DTSTART;VALUE=DATE:20250315
DTEND;VALUE=DATE:20250330
DTSTAMP:20260422T210158
CREATED:20250102T114227Z
LAST-MODIFIED:20250102T114227Z
UID:901-1741996800-1743292799@zusammen-wachsen.dog
SUMMARY:Urlaub
DESCRIPTION:
URL:https://zusammen-wachsen.dog/event/urlaub/
CATEGORIES:Urlaub
END:VEVENT
BEGIN:VEVENT
DTSTART;TZID=Europe/Paris:20250326T190000
DTEND;TZID=Europe/Paris:20250326T200000
DTSTAMP:20260422T210158
CREATED:20250313T072758Z
LAST-MODIFIED:20250313T072758Z
UID:954-1743015600-1743019200@zusammen-wachsen.dog
SUMMARY:Hundestammtisch
DESCRIPTION:An Zoom-Meeting teilnehmen\nhttps://us06web.zoom.us/j/86053541105?pwd=0ZXdiOEQaswGqirCunfeosTIRMIK7B.1 \nMeeting-ID: 860 5354 1105\nKenncode: 432652
URL:https://zusammen-wachsen.dog/event/hundestammtisch-10/
LOCATION:Zoom
CATEGORIES:Event,Online
END:VEVENT
END:VCALENDAR