BEGIN:VCALENDAR
VERSION:2.0
PRODID:-//Zusammen Wachsen - ECPv6.15.15//NONSGML v1.0//EN
CALSCALE:GREGORIAN
METHOD:PUBLISH
X-ORIGINAL-URL:https://zusammen-wachsen.dog
X-WR-CALDESC:Veranstaltungen für Zusammen Wachsen
REFRESH-INTERVAL;VALUE=DURATION:PT1H
X-Robots-Tag:noindex
X-PUBLISHED-TTL:PT1H
BEGIN:VTIMEZONE
TZID:Europe/Paris
BEGIN:DAYLIGHT
TZOFFSETFROM:+0100
TZOFFSETTO:+0200
TZNAME:CEST
DTSTART:20250330T010000
END:DAYLIGHT
BEGIN:STANDARD
TZOFFSETFROM:+0200
TZOFFSETTO:+0100
TZNAME:CET
DTSTART:20251026T010000
END:STANDARD
BEGIN:DAYLIGHT
TZOFFSETFROM:+0100
TZOFFSETTO:+0200
TZNAME:CEST
DTSTART:20260329T010000
END:DAYLIGHT
BEGIN:STANDARD
TZOFFSETFROM:+0200
TZOFFSETTO:+0100
TZNAME:CET
DTSTART:20261025T010000
END:STANDARD
BEGIN:DAYLIGHT
TZOFFSETFROM:+0100
TZOFFSETTO:+0200
TZNAME:CEST
DTSTART:20270328T010000
END:DAYLIGHT
BEGIN:STANDARD
TZOFFSETFROM:+0200
TZOFFSETTO:+0100
TZNAME:CET
DTSTART:20271031T010000
END:STANDARD
END:VTIMEZONE
BEGIN:VEVENT
DTSTART;TZID=Europe/Paris:20260326T180000
DTEND;TZID=Europe/Paris:20260326T190000
DTSTAMP:20260420T041619
CREATED:20260205T092937Z
LAST-MODIFIED:20260205T095544Z
UID:1310-1774548000-1774551600@zusammen-wachsen.dog
SUMMARY:SHS-Online-Trainingstreff
DESCRIPTION:Allein ist man oft nicht so motiviert zu trainieren\, also lasst uns gemeinsam trainieren. Wir treffen uns online über Zoom\, jeder trainiert für sich und wir trainieren zusammen. Natürlich ist auch genug Zeit\, Fragen zu stellen und Probleme zu klären.\nWem das nicht reicht\, der wendet sich an Karin Wiesmeier (Kreative Hundefreizeit). Sie bietet Videoanalyse oder virtuelles Training an. \nKosten: 3€/Woche oder 10€/4x \nhttps://us06web.zoom.us/j/81887635073?pwd=dXDCHN3HUyD2u7ITO1WpdkNyDaWY3A.1 \nMeeting-ID: 818 8763 5073\nKenncode: 295306
URL:https://zusammen-wachsen.dog/event/shs-online-trainingstreff-8/
LOCATION:Zoom
CATEGORIES:Gruppentraining,Online
ATTACH;FMTTYPE=image/png:https://zusammen-wachsen.dog/wp-content/uploads/2026/02/shs_online.png
END:VEVENT
END:VCALENDAR