BEGIN:VCALENDAR
VERSION:2.0
PRODID:-//Zusammen Wachsen - ECPv6.15.15//NONSGML v1.0//EN
CALSCALE:GREGORIAN
METHOD:PUBLISH
X-WR-CALNAME:Zusammen Wachsen
X-ORIGINAL-URL:https://zusammen-wachsen.dog
X-WR-CALDESC:Veranstaltungen für Zusammen Wachsen
REFRESH-INTERVAL;VALUE=DURATION:PT1H
X-Robots-Tag:noindex
X-PUBLISHED-TTL:PT1H
BEGIN:VTIMEZONE
TZID:Europe/Helsinki
BEGIN:DAYLIGHT
TZOFFSETFROM:+0200
TZOFFSETTO:+0300
TZNAME:EEST
DTSTART:20220327T010000
END:DAYLIGHT
BEGIN:STANDARD
TZOFFSETFROM:+0300
TZOFFSETTO:+0200
TZNAME:EET
DTSTART:20221030T010000
END:STANDARD
BEGIN:DAYLIGHT
TZOFFSETFROM:+0200
TZOFFSETTO:+0300
TZNAME:EEST
DTSTART:20230326T010000
END:DAYLIGHT
BEGIN:STANDARD
TZOFFSETFROM:+0300
TZOFFSETTO:+0200
TZNAME:EET
DTSTART:20231029T010000
END:STANDARD
BEGIN:DAYLIGHT
TZOFFSETFROM:+0200
TZOFFSETTO:+0300
TZNAME:EEST
DTSTART:20240331T010000
END:DAYLIGHT
BEGIN:STANDARD
TZOFFSETFROM:+0300
TZOFFSETTO:+0200
TZNAME:EET
DTSTART:20241027T010000
END:STANDARD
END:VTIMEZONE
BEGIN:VEVENT
DTSTART;TZID=Europe/Helsinki:20230803T160000
DTEND;TZID=Europe/Helsinki:20230803T180000
DTSTAMP:20260423T195443
CREATED:20230726T091314Z
LAST-MODIFIED:20230726T091852Z
UID:183-1691078400-1691085600@zusammen-wachsen.dog
SUMMARY:Minddog
DESCRIPTION:
URL:https://zusammen-wachsen.dog/event/minddog-2/
LOCATION:HSG Nürnberg Land e.V.\, Altdorf\, Deutschland
CATEGORIES:Gruppentraining
END:VEVENT
BEGIN:VEVENT
DTSTART;TZID=Europe/Helsinki:20230803T180000
DTEND;TZID=Europe/Helsinki:20230803T190000
DTSTAMP:20260423T195443
CREATED:20230726T091557Z
LAST-MODIFIED:20230726T091557Z
UID:193-1691085600-1691089200@zusammen-wachsen.dog
SUMMARY:BH-Training
DESCRIPTION:
URL:https://zusammen-wachsen.dog/event/bh-training-3/
LOCATION:HSG Nürnberg Land e.V.\, Altdorf\, Deutschland
CATEGORIES:Gruppentraining
END:VEVENT
BEGIN:VEVENT
DTSTART;TZID=Europe/Helsinki:20230807T160000
DTEND;TZID=Europe/Helsinki:20230807T170000
DTSTAMP:20260423T195443
CREATED:20230808T075257Z
LAST-MODIFIED:20230808T075313Z
UID:228-1691424000-1691427600@zusammen-wachsen.dog
SUMMARY:BH/Mix-Training
DESCRIPTION:
URL:https://zusammen-wachsen.dog/event/bh-mix-training/
LOCATION:wird mitgeteilt
CATEGORIES:Gruppentraining
END:VEVENT
BEGIN:VEVENT
DTSTART;TZID=Europe/Helsinki:20230808T180000
DTEND;TZID=Europe/Helsinki:20230808T190000
DTSTAMP:20260423T195443
CREATED:20230727T051217Z
LAST-MODIFIED:20230802T060216Z
UID:208-1691517600-1691521200@zusammen-wachsen.dog
SUMMARY:BH/Mix-Training
DESCRIPTION:kann mit „rumsitzen“ kombiniert werden
URL:https://zusammen-wachsen.dog/event/bh-training-9/
LOCATION:wird mitgeteilt
CATEGORIES:Gruppentraining
END:VEVENT
BEGIN:VEVENT
DTSTART;TZID=Europe/Helsinki:20230810T160000
DTEND;TZID=Europe/Helsinki:20230810T180000
DTSTAMP:20260423T195443
CREATED:20230726T091359Z
LAST-MODIFIED:20230726T091359Z
UID:185-1691683200-1691690400@zusammen-wachsen.dog
SUMMARY:Minddog
DESCRIPTION:
URL:https://zusammen-wachsen.dog/event/minddog-3/
LOCATION:HSG Nürnberg Land e.V.\, Altdorf\, Deutschland
CATEGORIES:Gruppentraining
END:VEVENT
BEGIN:VEVENT
DTSTART;TZID=Europe/Helsinki:20230810T180000
DTEND;TZID=Europe/Helsinki:20230810T190000
DTSTAMP:20260423T195443
CREATED:20230726T091622Z
LAST-MODIFIED:20230726T091622Z
UID:195-1691690400-1691694000@zusammen-wachsen.dog
SUMMARY:BH-Training
DESCRIPTION:
URL:https://zusammen-wachsen.dog/event/bh-training-4/
LOCATION:HSG Nürnberg Land e.V.\, Altdorf\, Deutschland
CATEGORIES:Gruppentraining
END:VEVENT
BEGIN:VEVENT
DTSTART;TZID=Europe/Helsinki:20230814T160000
DTEND;TZID=Europe/Helsinki:20230814T170000
DTSTAMP:20260423T195443
CREATED:20230808T075126Z
LAST-MODIFIED:20230808T075126Z
UID:226-1692028800-1692032400@zusammen-wachsen.dog
SUMMARY:Minddog
DESCRIPTION:
URL:https://zusammen-wachsen.dog/event/minddog-7/
LOCATION:wird mitgeteilt
CATEGORIES:Gruppentraining
END:VEVENT
BEGIN:VEVENT
DTSTART;TZID=Europe/Helsinki:20230814T180000
DTEND;TZID=Europe/Helsinki:20230814T190000
DTSTAMP:20260423T195443
CREATED:20230727T051251Z
LAST-MODIFIED:20230727T051251Z
UID:210-1692036000-1692039600@zusammen-wachsen.dog
SUMMARY:BH-Training
DESCRIPTION:kann mit „rumsitzen“ kombiniert werden
URL:https://zusammen-wachsen.dog/event/bh-training-10/
LOCATION:wird mitgeteilt
CATEGORIES:Gruppentraining
END:VEVENT
BEGIN:VEVENT
DTSTART;TZID=Europe/Helsinki:20230817T160000
DTEND;TZID=Europe/Helsinki:20230817T180000
DTSTAMP:20260423T195443
CREATED:20230726T091425Z
LAST-MODIFIED:20230726T091425Z
UID:187-1692288000-1692295200@zusammen-wachsen.dog
SUMMARY:Minddog
DESCRIPTION:
URL:https://zusammen-wachsen.dog/event/minddog-4/
LOCATION:HSG Nürnberg Land e.V.\, Altdorf\, Deutschland
CATEGORIES:Gruppentraining
END:VEVENT
BEGIN:VEVENT
DTSTART;TZID=Europe/Helsinki:20230817T180000
DTEND;TZID=Europe/Helsinki:20230817T190000
DTSTAMP:20260423T195443
CREATED:20230726T091720Z
LAST-MODIFIED:20230726T091720Z
UID:197-1692295200-1692298800@zusammen-wachsen.dog
SUMMARY:BH-Training
DESCRIPTION:
URL:https://zusammen-wachsen.dog/event/bh-training-5/
LOCATION:HSG Nürnberg Land e.V.\, Altdorf\, Deutschland
CATEGORIES:Gruppentraining
END:VEVENT
BEGIN:VEVENT
DTSTART;TZID=Europe/Helsinki:20230821T180000
DTEND;TZID=Europe/Helsinki:20230821T190000
DTSTAMP:20260423T195443
CREATED:20230727T051323Z
LAST-MODIFIED:20230727T051323Z
UID:212-1692640800-1692644400@zusammen-wachsen.dog
SUMMARY:BH-Training
DESCRIPTION:kann mit „rumsitzen“ kombiniert werden
URL:https://zusammen-wachsen.dog/event/bh-training-11/
LOCATION:wird mitgeteilt
CATEGORIES:Gruppentraining
END:VEVENT
BEGIN:VEVENT
DTSTART;TZID=Europe/Helsinki:20230824T160000
DTEND;TZID=Europe/Helsinki:20230824T180000
DTSTAMP:20260423T195443
CREATED:20230726T091452Z
LAST-MODIFIED:20230726T091452Z
UID:189-1692892800-1692900000@zusammen-wachsen.dog
SUMMARY:Minddog
DESCRIPTION:
URL:https://zusammen-wachsen.dog/event/minddog-5/
LOCATION:HSG Nürnberg Land e.V.\, Altdorf\, Deutschland
CATEGORIES:Gruppentraining
END:VEVENT
BEGIN:VEVENT
DTSTART;TZID=Europe/Helsinki:20230824T180000
DTEND;TZID=Europe/Helsinki:20230824T190000
DTSTAMP:20260423T195443
CREATED:20230726T091752Z
LAST-MODIFIED:20230726T091752Z
UID:199-1692900000-1692903600@zusammen-wachsen.dog
SUMMARY:BH-Training
DESCRIPTION:
URL:https://zusammen-wachsen.dog/event/bh-training-6/
LOCATION:HSG Nürnberg Land e.V.\, Altdorf\, Deutschland
CATEGORIES:Gruppentraining
END:VEVENT
BEGIN:VEVENT
DTSTART;TZID=Europe/Helsinki:20230831T160000
DTEND;TZID=Europe/Helsinki:20230831T180000
DTSTAMP:20260423T195443
CREATED:20230726T091524Z
LAST-MODIFIED:20230726T091524Z
UID:191-1693497600-1693504800@zusammen-wachsen.dog
SUMMARY:Minddog
DESCRIPTION:
URL:https://zusammen-wachsen.dog/event/minddog-6/
LOCATION:HSG Nürnberg Land e.V.\, Altdorf\, Deutschland
CATEGORIES:Gruppentraining
END:VEVENT
BEGIN:VEVENT
DTSTART;TZID=Europe/Helsinki:20230831T180000
DTEND;TZID=Europe/Helsinki:20230831T190000
DTSTAMP:20260423T195443
CREATED:20230726T091822Z
LAST-MODIFIED:20230726T091822Z
UID:201-1693504800-1693508400@zusammen-wachsen.dog
SUMMARY:BH-Training
DESCRIPTION:
URL:https://zusammen-wachsen.dog/event/bh-training-7/
LOCATION:HSG Nürnberg Land e.V.\, Altdorf\, Deutschland
CATEGORIES:Gruppentraining
END:VEVENT
END:VCALENDAR