BEGIN:VCALENDAR
VERSION:2.0
PRODID:-//Zusammen Wachsen - ECPv6.15.15//NONSGML v1.0//EN
CALSCALE:GREGORIAN
METHOD:PUBLISH
X-WR-CALNAME:Zusammen Wachsen
X-ORIGINAL-URL:https://zusammen-wachsen.dog
X-WR-CALDESC:Veranstaltungen für Zusammen Wachsen
REFRESH-INTERVAL;VALUE=DURATION:PT1H
X-Robots-Tag:noindex
X-PUBLISHED-TTL:PT1H
BEGIN:VTIMEZONE
TZID:Europe/Helsinki
BEGIN:DAYLIGHT
TZOFFSETFROM:+0200
TZOFFSETTO:+0300
TZNAME:EEST
DTSTART:20220327T010000
END:DAYLIGHT
BEGIN:STANDARD
TZOFFSETFROM:+0300
TZOFFSETTO:+0200
TZNAME:EET
DTSTART:20221030T010000
END:STANDARD
BEGIN:DAYLIGHT
TZOFFSETFROM:+0200
TZOFFSETTO:+0300
TZNAME:EEST
DTSTART:20230326T010000
END:DAYLIGHT
BEGIN:STANDARD
TZOFFSETFROM:+0300
TZOFFSETTO:+0200
TZNAME:EET
DTSTART:20231029T010000
END:STANDARD
BEGIN:DAYLIGHT
TZOFFSETFROM:+0200
TZOFFSETTO:+0300
TZNAME:EEST
DTSTART:20240331T010000
END:DAYLIGHT
BEGIN:STANDARD
TZOFFSETFROM:+0300
TZOFFSETTO:+0200
TZNAME:EET
DTSTART:20241027T010000
END:STANDARD
END:VTIMEZONE
BEGIN:VEVENT
DTSTART;TZID=Europe/Helsinki:20231007T090000
DTEND;TZID=Europe/Helsinki:20231007T160000
DTSTAMP:20260423T172300
CREATED:20230831T083352Z
LAST-MODIFIED:20230831T083352Z
UID:264-1696669200-1696694400@zusammen-wachsen.dog
SUMMARY:BH/VT-Prüfung
DESCRIPTION:
URL:https://zusammen-wachsen.dog/event/bh-vt-pruefung/
LOCATION:HSG Nürnberg Land e.V.\, Altdorf\, Deutschland
CATEGORIES:Prüfung
END:VEVENT
BEGIN:VEVENT
DTSTART;TZID=Europe/Helsinki:20231012T160000
DTEND;TZID=Europe/Helsinki:20231012T190000
DTSTAMP:20260423T172300
CREATED:20230927T075219Z
LAST-MODIFIED:20230927T075219Z
UID:277-1697126400-1697137200@zusammen-wachsen.dog
SUMMARY:Minddog
DESCRIPTION:
URL:https://zusammen-wachsen.dog/event/minddog-11/
LOCATION:HSG Nürnberg Land e.V.\, Altdorf\, Deutschland
CATEGORIES:Gruppentraining
END:VEVENT
BEGIN:VEVENT
DTSTART;TZID=Europe/Helsinki:20231018T170000
DTEND;TZID=Europe/Helsinki:20231018T180000
DTSTAMP:20260423T172300
CREATED:20231018T071624Z
LAST-MODIFIED:20231018T071624Z
UID:319-1697648400-1697652000@zusammen-wachsen.dog
SUMMARY:Mix-Training
DESCRIPTION:Eine gemeinsame Trainingsstunde\, in der ihr entscheidet\, was ihr machen wollt.
URL:https://zusammen-wachsen.dog/event/mix-training/
LOCATION:wird mitgeteilt
CATEGORIES:Gruppentraining
END:VEVENT
BEGIN:VEVENT
DTSTART;TZID=Europe/Helsinki:20231019T160000
DTEND;TZID=Europe/Helsinki:20231019T190000
DTSTAMP:20260423T172300
CREATED:20230927T075302Z
LAST-MODIFIED:20230927T075302Z
UID:279-1697731200-1697742000@zusammen-wachsen.dog
SUMMARY:Minddog
DESCRIPTION:
URL:https://zusammen-wachsen.dog/event/minddog-12/
LOCATION:HSG Nürnberg Land e.V.\, Altdorf\, Deutschland
CATEGORIES:Gruppentraining
END:VEVENT
BEGIN:VEVENT
DTSTART;TZID=Europe/Helsinki:20231023T180000
DTEND;TZID=Europe/Helsinki:20231023T190000
DTSTAMP:20260423T172300
CREATED:20231019T045844Z
LAST-MODIFIED:20231019T045844Z
UID:346-1698084000-1698087600@zusammen-wachsen.dog
SUMMARY:Grp-Std
DESCRIPTION:
URL:https://zusammen-wachsen.dog/event/grp-std/
LOCATION:wird mitgeteilt
CATEGORIES:Gruppentraining
END:VEVENT
BEGIN:VEVENT
DTSTART;TZID=Europe/Helsinki:20231025T170000
DTEND;TZID=Europe/Helsinki:20231025T180000
DTSTAMP:20260423T172300
CREATED:20231019T050115Z
LAST-MODIFIED:20231024T094350Z
UID:354-1698253200-1698256800@zusammen-wachsen.dog
SUMMARY:Gassi-Walk
DESCRIPTION:
URL:https://zusammen-wachsen.dog/event/social-walk/
LOCATION:wird mitgeteilt
CATEGORIES:Gruppentraining
END:VEVENT
BEGIN:VEVENT
DTSTART;TZID=Europe/Helsinki:20231026T160000
DTEND;TZID=Europe/Helsinki:20231026T190000
DTSTAMP:20260423T172300
CREATED:20230927T075330Z
LAST-MODIFIED:20230927T075330Z
UID:281-1698336000-1698346800@zusammen-wachsen.dog
SUMMARY:Minddog
DESCRIPTION:
URL:https://zusammen-wachsen.dog/event/minddog-13/
LOCATION:HSG Nürnberg Land e.V.\, Altdorf\, Deutschland
CATEGORIES:Gruppentraining
END:VEVENT
BEGIN:VEVENT
DTSTART;TZID=Europe/Helsinki:20231030T180000
DTEND;TZID=Europe/Helsinki:20231030T190000
DTSTAMP:20260423T172300
CREATED:20231019T045923Z
LAST-MODIFIED:20231019T045923Z
UID:348-1698688800-1698692400@zusammen-wachsen.dog
SUMMARY:Grp-Std
DESCRIPTION:
URL:https://zusammen-wachsen.dog/event/grp-std-2/
LOCATION:wird mitgeteilt
CATEGORIES:Gruppentraining
END:VEVENT
END:VCALENDAR