BEGIN:VCALENDAR
VERSION:2.0
PRODID:-//Zusammen Wachsen - ECPv6.15.15//NONSGML v1.0//EN
CALSCALE:GREGORIAN
METHOD:PUBLISH
X-ORIGINAL-URL:https://zusammen-wachsen.dog
X-WR-CALDESC:Veranstaltungen für Zusammen Wachsen
REFRESH-INTERVAL;VALUE=DURATION:PT1H
X-Robots-Tag:noindex
X-PUBLISHED-TTL:PT1H
BEGIN:VTIMEZONE
TZID:Europe/Helsinki
BEGIN:DAYLIGHT
TZOFFSETFROM:+0200
TZOFFSETTO:+0300
TZNAME:EEST
DTSTART:20220327T010000
END:DAYLIGHT
BEGIN:STANDARD
TZOFFSETFROM:+0300
TZOFFSETTO:+0200
TZNAME:EET
DTSTART:20221030T010000
END:STANDARD
BEGIN:DAYLIGHT
TZOFFSETFROM:+0200
TZOFFSETTO:+0300
TZNAME:EEST
DTSTART:20230326T010000
END:DAYLIGHT
BEGIN:STANDARD
TZOFFSETFROM:+0300
TZOFFSETTO:+0200
TZNAME:EET
DTSTART:20231029T010000
END:STANDARD
BEGIN:DAYLIGHT
TZOFFSETFROM:+0200
TZOFFSETTO:+0300
TZNAME:EEST
DTSTART:20240331T010000
END:DAYLIGHT
BEGIN:STANDARD
TZOFFSETFROM:+0300
TZOFFSETTO:+0200
TZNAME:EET
DTSTART:20241027T010000
END:STANDARD
BEGIN:DAYLIGHT
TZOFFSETFROM:+0200
TZOFFSETTO:+0300
TZNAME:EEST
DTSTART:20250330T010000
END:DAYLIGHT
BEGIN:STANDARD
TZOFFSETFROM:+0300
TZOFFSETTO:+0200
TZNAME:EET
DTSTART:20251026T010000
END:STANDARD
END:VTIMEZONE
BEGIN:VEVENT
DTSTART;TZID=Europe/Helsinki:20231204T170000
DTEND;TZID=Europe/Helsinki:20231204T180000
DTSTAMP:20260423T144654
CREATED:20231123T113436Z
LAST-MODIFIED:20231123T113436Z
UID:455-1701709200-1701712800@zusammen-wachsen.dog
SUMMARY:RO-Training
DESCRIPTION:
URL:https://zusammen-wachsen.dog/event/ro-training/
LOCATION:wird mitgeteilt
CATEGORIES:Gruppentraining
END:VEVENT
BEGIN:VEVENT
DTSTART;TZID=Europe/Helsinki:20231207T160000
DTEND;TZID=Europe/Helsinki:20231207T180000
DTSTAMP:20260423T144654
CREATED:20231123T113646Z
LAST-MODIFIED:20231123T113646Z
UID:461-1701964800-1701972000@zusammen-wachsen.dog
SUMMARY:Minddog
DESCRIPTION:
URL:https://zusammen-wachsen.dog/event/minddog/
LOCATION:HSG Nürnberg Land e.V.\, Altdorf\, Deutschland
CATEGORIES:Gruppentraining
END:VEVENT
BEGIN:VEVENT
DTSTART;TZID=Europe/Helsinki:20231211T080000
DTEND;TZID=Europe/Helsinki:20231211T170000
DTSTAMP:20260423T144654
CREATED:20231123T113500Z
LAST-MODIFIED:20231123T113500Z
UID:457-1702281600-1702314000@zusammen-wachsen.dog
SUMMARY:RO-Training
DESCRIPTION:
URL:https://zusammen-wachsen.dog/event/ro-training-2/
LOCATION:wird mitgeteilt
CATEGORIES:Gruppentraining
END:VEVENT
BEGIN:VEVENT
DTSTART;TZID=Europe/Helsinki:20231216T180000
DTEND;TZID=Europe/Helsinki:20231216T220000
DTSTAMP:20260423T144654
CREATED:20231016T054300Z
LAST-MODIFIED:20231025T095658Z
UID:307-1702749600-1702764000@zusammen-wachsen.dog
SUMMARY:Weihnachtsessen
DESCRIPTION:
URL:https://zusammen-wachsen.dog/event/weihnachtsessen/
LOCATION:wird mitgeteilt
CATEGORIES:Event
ATTACH;FMTTYPE=image/png:https://zusammen-wachsen.dog/wp-content/uploads/2023/10/20231023_094342_0000.png
END:VEVENT
BEGIN:VEVENT
DTSTART;TZID=Europe/Helsinki:20231217T100000
DTEND;TZID=Europe/Helsinki:20231217T120000
DTSTAMP:20260423T144654
CREATED:20231121T062732Z
LAST-MODIFIED:20231121T062805Z
UID:448-1702807200-1702814400@zusammen-wachsen.dog
SUMMARY:Wanderung an der Schwarzachklamm
DESCRIPTION:
URL:https://zusammen-wachsen.dog/event/wanderung-an-der-schwarzachklamm/
LOCATION:wird mitgeteilt
CATEGORIES:Event
ATTACH;FMTTYPE=image/png:https://zusammen-wachsen.dog/wp-content/uploads/2023/11/WanderungDez2023.png
END:VEVENT
BEGIN:VEVENT
DTSTART;TZID=Europe/Helsinki:20231221T160000
DTEND;TZID=Europe/Helsinki:20231221T180000
DTSTAMP:20260423T144654
CREATED:20231123T113745Z
LAST-MODIFIED:20231123T113745Z
UID:465-1703174400-1703181600@zusammen-wachsen.dog
SUMMARY:Minddog
DESCRIPTION:
URL:https://zusammen-wachsen.dog/event/minddog-19/
LOCATION:HSG Nürnberg Land e.V.\, Altdorf\, Deutschland
CATEGORIES:Gruppentraining
END:VEVENT
BEGIN:VEVENT
DTSTART;VALUE=DATE:20231225
DTEND;VALUE=DATE:20240108
DTSTAMP:20260423T144654
CREATED:20231123T113844Z
LAST-MODIFIED:20231213T070935Z
UID:467-1703462400-1704671999@zusammen-wachsen.dog
SUMMARY:Winterpause
DESCRIPTION:
URL:https://zusammen-wachsen.dog/event/winterpause/
LOCATION:wird mitgeteilt
END:VEVENT
END:VCALENDAR