BEGIN:VCALENDAR
VERSION:2.0
PRODID:-//Zusammen Wachsen - ECPv6.15.15//NONSGML v1.0//EN
CALSCALE:GREGORIAN
METHOD:PUBLISH
X-WR-CALNAME:Zusammen Wachsen
X-ORIGINAL-URL:https://zusammen-wachsen.dog
X-WR-CALDESC:Veranstaltungen für Zusammen Wachsen
REFRESH-INTERVAL;VALUE=DURATION:PT1H
X-Robots-Tag:noindex
X-PUBLISHED-TTL:PT1H
BEGIN:VTIMEZONE
TZID:Europe/Helsinki
BEGIN:DAYLIGHT
TZOFFSETFROM:+0200
TZOFFSETTO:+0300
TZNAME:EEST
DTSTART:20220327T010000
END:DAYLIGHT
BEGIN:STANDARD
TZOFFSETFROM:+0300
TZOFFSETTO:+0200
TZNAME:EET
DTSTART:20221030T010000
END:STANDARD
BEGIN:DAYLIGHT
TZOFFSETFROM:+0200
TZOFFSETTO:+0300
TZNAME:EEST
DTSTART:20230326T010000
END:DAYLIGHT
BEGIN:STANDARD
TZOFFSETFROM:+0300
TZOFFSETTO:+0200
TZNAME:EET
DTSTART:20231029T010000
END:STANDARD
BEGIN:DAYLIGHT
TZOFFSETFROM:+0200
TZOFFSETTO:+0300
TZNAME:EEST
DTSTART:20240331T010000
END:DAYLIGHT
BEGIN:STANDARD
TZOFFSETFROM:+0300
TZOFFSETTO:+0200
TZNAME:EET
DTSTART:20241027T010000
END:STANDARD
BEGIN:DAYLIGHT
TZOFFSETFROM:+0200
TZOFFSETTO:+0300
TZNAME:EEST
DTSTART:20250330T010000
END:DAYLIGHT
BEGIN:STANDARD
TZOFFSETFROM:+0300
TZOFFSETTO:+0200
TZNAME:EET
DTSTART:20251026T010000
END:STANDARD
END:VTIMEZONE
BEGIN:VTIMEZONE
TZID:Europe/Paris
BEGIN:DAYLIGHT
TZOFFSETFROM:+0100
TZOFFSETTO:+0200
TZNAME:CEST
DTSTART:20230326T010000
END:DAYLIGHT
BEGIN:STANDARD
TZOFFSETFROM:+0200
TZOFFSETTO:+0100
TZNAME:CET
DTSTART:20231029T010000
END:STANDARD
BEGIN:DAYLIGHT
TZOFFSETFROM:+0100
TZOFFSETTO:+0200
TZNAME:CEST
DTSTART:20240331T010000
END:DAYLIGHT
BEGIN:STANDARD
TZOFFSETFROM:+0200
TZOFFSETTO:+0100
TZNAME:CET
DTSTART:20241027T010000
END:STANDARD
BEGIN:DAYLIGHT
TZOFFSETFROM:+0100
TZOFFSETTO:+0200
TZNAME:CEST
DTSTART:20250330T010000
END:DAYLIGHT
BEGIN:STANDARD
TZOFFSETFROM:+0200
TZOFFSETTO:+0100
TZNAME:CET
DTSTART:20251026T010000
END:STANDARD
END:VTIMEZONE
BEGIN:VEVENT
DTSTART;VALUE=DATE:20231225
DTEND;VALUE=DATE:20240108
DTSTAMP:20260423T132245
CREATED:20231123T113844Z
LAST-MODIFIED:20231213T070935Z
UID:467-1703462400-1704671999@zusammen-wachsen.dog
SUMMARY:Winterpause
DESCRIPTION:
URL:https://zusammen-wachsen.dog/event/winterpause/
LOCATION:wird mitgeteilt
END:VEVENT
BEGIN:VEVENT
DTSTART;TZID=Europe/Paris:20240108T170000
DTEND;TZID=Europe/Paris:20240108T180000
DTSTAMP:20260423T132245
CREATED:20240108T115245Z
LAST-MODIFIED:20240108T115421Z
UID:510-1704733200-1704736800@zusammen-wachsen.dog
SUMMARY:RO-Training
DESCRIPTION:
URL:https://zusammen-wachsen.dog/event/ro-training-3/
LOCATION:wird mitgeteilt
CATEGORIES:Gruppentraining
END:VEVENT
BEGIN:VEVENT
DTSTART;TZID=Europe/Paris:20240115T170000
DTEND;TZID=Europe/Paris:20240115T180000
DTSTAMP:20260423T132245
CREATED:20240108T115351Z
LAST-MODIFIED:20240108T115351Z
UID:512-1705338000-1705341600@zusammen-wachsen.dog
SUMMARY:RO-Training
DESCRIPTION:
URL:https://zusammen-wachsen.dog/event/ro-training-4/
LOCATION:wird mitgeteilt
CATEGORIES:Gruppentraining
END:VEVENT
BEGIN:VEVENT
DTSTART;TZID=Europe/Helsinki:20240121T100000
DTEND;TZID=Europe/Helsinki:20240121T130000
DTSTAMP:20260423T132245
CREATED:20231213T070834Z
LAST-MODIFIED:20231213T070834Z
UID:471-1705831200-1705842000@zusammen-wachsen.dog
SUMMARY:Wanderung bei den Wildpferden/Erlangen
DESCRIPTION:
URL:https://zusammen-wachsen.dog/event/wanderung-bei-den-wildpferden-erlangen/
LOCATION:wird mitgeteilt
CATEGORIES:Event
ATTACH;FMTTYPE=image/png:https://zusammen-wachsen.dog/wp-content/uploads/2023/12/WildpferdemitDogstyler.png
END:VEVENT
BEGIN:VEVENT
DTSTART;TZID=Europe/Paris:20240122T170000
DTEND;TZID=Europe/Paris:20240122T180000
DTSTAMP:20260423T132245
CREATED:20240108T115525Z
LAST-MODIFIED:20240108T115525Z
UID:515-1705942800-1705946400@zusammen-wachsen.dog
SUMMARY:RO-Training
DESCRIPTION:
URL:https://zusammen-wachsen.dog/event/ro-training-5/
LOCATION:wird mitgeteilt
CATEGORIES:Gruppentraining
END:VEVENT
BEGIN:VEVENT
DTSTART;TZID=Europe/Paris:20240124T163000
DTEND;TZID=Europe/Paris:20240124T173000
DTSTAMP:20260423T132245
CREATED:20240103T055625Z
LAST-MODIFIED:20240118T080301Z
UID:478-1706113800-1706117400@zusammen-wachsen.dog
SUMMARY:Trickreich Fit – Basis-Kurs
DESCRIPTION:Tag 2/6
URL:https://zusammen-wachsen.dog/event/trickreich-fit-basis-kurs-2/
LOCATION:wird mitgeteilt
CATEGORIES:Gruppentraining
END:VEVENT
BEGIN:VEVENT
DTSTART;TZID=Europe/Paris:20240129T170000
DTEND;TZID=Europe/Paris:20240129T180000
DTSTAMP:20260423T132245
CREATED:20240108T115700Z
LAST-MODIFIED:20240108T115700Z
UID:518-1706547600-1706551200@zusammen-wachsen.dog
SUMMARY:RO-Training
DESCRIPTION:
URL:https://zusammen-wachsen.dog/event/ro-training-6/
LOCATION:wird mitgeteilt
CATEGORIES:Gruppentraining
END:VEVENT
BEGIN:VEVENT
DTSTART;TZID=Europe/Paris:20240131T163000
DTEND;TZID=Europe/Paris:20240131T173000
DTSTAMP:20260423T132245
CREATED:20240103T055703Z
LAST-MODIFIED:20240118T080146Z
UID:480-1706718600-1706722200@zusammen-wachsen.dog
SUMMARY:Trickreich Fit – Basis-Kurs
DESCRIPTION:Tag 3/6
URL:https://zusammen-wachsen.dog/event/trickreich-fit-basis-kurs-3/
LOCATION:wird mitgeteilt
CATEGORIES:Gruppentraining
END:VEVENT
END:VCALENDAR