BEGIN:VCALENDAR
VERSION:2.0
PRODID:-//Zusammen Wachsen - ECPv6.15.15//NONSGML v1.0//EN
CALSCALE:GREGORIAN
METHOD:PUBLISH
X-WR-CALNAME:Zusammen Wachsen
X-ORIGINAL-URL:https://zusammen-wachsen.dog
X-WR-CALDESC:Veranstaltungen für Zusammen Wachsen
REFRESH-INTERVAL;VALUE=DURATION:PT1H
X-Robots-Tag:noindex
X-PUBLISHED-TTL:PT1H
BEGIN:VTIMEZONE
TZID:Europe/Paris
BEGIN:DAYLIGHT
TZOFFSETFROM:+0100
TZOFFSETTO:+0200
TZNAME:CEST
DTSTART:20230326T010000
END:DAYLIGHT
BEGIN:STANDARD
TZOFFSETFROM:+0200
TZOFFSETTO:+0100
TZNAME:CET
DTSTART:20231029T010000
END:STANDARD
BEGIN:DAYLIGHT
TZOFFSETFROM:+0100
TZOFFSETTO:+0200
TZNAME:CEST
DTSTART:20240331T010000
END:DAYLIGHT
BEGIN:STANDARD
TZOFFSETFROM:+0200
TZOFFSETTO:+0100
TZNAME:CET
DTSTART:20241027T010000
END:STANDARD
BEGIN:DAYLIGHT
TZOFFSETFROM:+0100
TZOFFSETTO:+0200
TZNAME:CEST
DTSTART:20250330T010000
END:DAYLIGHT
BEGIN:STANDARD
TZOFFSETFROM:+0200
TZOFFSETTO:+0100
TZNAME:CET
DTSTART:20251026T010000
END:STANDARD
END:VTIMEZONE
BEGIN:VTIMEZONE
TZID:Europe/Helsinki
BEGIN:DAYLIGHT
TZOFFSETFROM:+0200
TZOFFSETTO:+0300
TZNAME:EEST
DTSTART:20230326T010000
END:DAYLIGHT
BEGIN:STANDARD
TZOFFSETFROM:+0300
TZOFFSETTO:+0200
TZNAME:EET
DTSTART:20231029T010000
END:STANDARD
BEGIN:DAYLIGHT
TZOFFSETFROM:+0200
TZOFFSETTO:+0300
TZNAME:EEST
DTSTART:20240331T010000
END:DAYLIGHT
BEGIN:STANDARD
TZOFFSETFROM:+0300
TZOFFSETTO:+0200
TZNAME:EET
DTSTART:20241027T010000
END:STANDARD
BEGIN:DAYLIGHT
TZOFFSETFROM:+0200
TZOFFSETTO:+0300
TZNAME:EEST
DTSTART:20250330T010000
END:DAYLIGHT
BEGIN:STANDARD
TZOFFSETFROM:+0300
TZOFFSETTO:+0200
TZNAME:EET
DTSTART:20251026T010000
END:STANDARD
END:VTIMEZONE
BEGIN:VEVENT
DTSTART;TZID=Europe/Paris:20240205T170000
DTEND;TZID=Europe/Paris:20240205T180000
DTSTAMP:20260423T122202
CREATED:20240122T054702Z
LAST-MODIFIED:20240122T054827Z
UID:541-1707152400-1707156000@zusammen-wachsen.dog
SUMMARY:RO-Training
DESCRIPTION:
URL:https://zusammen-wachsen.dog/event/ro-training-7/
LOCATION:wird mitgeteilt
CATEGORIES:Gruppentraining
END:VEVENT
BEGIN:VEVENT
DTSTART;TZID=Europe/Paris:20240207T163000
DTEND;TZID=Europe/Paris:20240207T173000
DTSTAMP:20260423T122202
CREATED:20240103T055740Z
LAST-MODIFIED:20240103T055740Z
UID:482-1707323400-1707327000@zusammen-wachsen.dog
SUMMARY:Trickreich Fit – Basis-Kurs
DESCRIPTION:Tag 4/6
URL:https://zusammen-wachsen.dog/event/trickreich-fit-basis-kurs-4/
LOCATION:wird mitgeteilt
CATEGORIES:Gruppentraining
END:VEVENT
BEGIN:VEVENT
DTSTART;TZID=Europe/Paris:20240212T170000
DTEND;TZID=Europe/Paris:20240212T180000
DTSTAMP:20260423T122202
CREATED:20240122T054752Z
LAST-MODIFIED:20240122T054932Z
UID:543-1707757200-1707760800@zusammen-wachsen.dog
SUMMARY:RO-Training
DESCRIPTION:
URL:https://zusammen-wachsen.dog/event/ro-training-8/
LOCATION:wird mitgeteilt
CATEGORIES:Gruppentraining
END:VEVENT
BEGIN:VEVENT
DTSTART;TZID=Europe/Paris:20240215T163000
DTEND;TZID=Europe/Paris:20240215T180000
DTSTAMP:20260423T122202
CREATED:20240219T063042Z
LAST-MODIFIED:20240219T063042Z
UID:592-1708014600-1708020000@zusammen-wachsen.dog
SUMMARY:Minddog
DESCRIPTION:
URL:https://zusammen-wachsen.dog/event/minddog-18/
LOCATION:HSG Nürnberg Land e.V.\, Altdorf\, Deutschland
CATEGORIES:Gruppentraining
END:VEVENT
BEGIN:VEVENT
DTSTART;TZID=Europe/Paris:20240218T100000
DTEND;TZID=Europe/Paris:20240218T130000
DTSTAMP:20260423T122202
CREATED:20240122T054504Z
LAST-MODIFIED:20240122T054504Z
UID:539-1708250400-1708261200@zusammen-wachsen.dog
SUMMARY:Wanderung bei Kalchreuth
DESCRIPTION:
URL:https://zusammen-wachsen.dog/event/wanderung-bei-kalchreuth/
LOCATION:wird mitgeteilt
CATEGORIES:Event
ATTACH;FMTTYPE=image/png:https://zusammen-wachsen.dog/wp-content/uploads/2024/01/20240103_132821_0000.png
END:VEVENT
BEGIN:VEVENT
DTSTART;TZID=Europe/Paris:20240219T170000
DTEND;TZID=Europe/Paris:20240219T180000
DTSTAMP:20260423T122202
CREATED:20240122T054919Z
LAST-MODIFIED:20240122T054919Z
UID:545-1708362000-1708365600@zusammen-wachsen.dog
SUMMARY:RO-Training
DESCRIPTION:
URL:https://zusammen-wachsen.dog/event/ro-training-9/
LOCATION:wird mitgeteilt
CATEGORIES:Gruppentraining
END:VEVENT
BEGIN:VEVENT
DTSTART;TZID=Europe/Paris:20240221T163000
DTEND;TZID=Europe/Paris:20240221T173000
DTSTAMP:20260423T122202
CREATED:20240103T055853Z
LAST-MODIFIED:20240118T080158Z
UID:486-1708533000-1708536600@zusammen-wachsen.dog
SUMMARY:Trickreich Fit – Basis-Kurs
DESCRIPTION:Tag 6/6
URL:https://zusammen-wachsen.dog/event/trickreich-fit-basis-kurs-6/
LOCATION:wird mitgeteilt
CATEGORIES:Gruppentraining
END:VEVENT
BEGIN:VEVENT
DTSTART;TZID=Europe/Paris:20240222T163000
DTEND;TZID=Europe/Paris:20240222T180000
DTSTAMP:20260423T122202
CREATED:20240219T063136Z
LAST-MODIFIED:20240219T063136Z
UID:594-1708619400-1708624800@zusammen-wachsen.dog
SUMMARY:Minddog
DESCRIPTION:
URL:https://zusammen-wachsen.dog/event/minddog-20/
LOCATION:HSG Nürnberg Land e.V.\, Altdorf\, Deutschland
CATEGORIES:Gruppentraining
END:VEVENT
BEGIN:VEVENT
DTSTART;TZID=Europe/Paris:20240226T170000
DTEND;TZID=Europe/Paris:20240226T180000
DTSTAMP:20260423T122202
CREATED:20240122T055015Z
LAST-MODIFIED:20240219T062648Z
UID:547-1708966800-1708970400@zusammen-wachsen.dog
SUMMARY:RO-Training
DESCRIPTION:
URL:https://zusammen-wachsen.dog/event/ro-training-10/
CATEGORIES:Gruppentraining
END:VEVENT
BEGIN:VEVENT
DTSTART;TZID=Europe/Paris:20240227T160000
DTEND;TZID=Europe/Paris:20240227T180000
DTSTAMP:20260423T122202
CREATED:20240219T062747Z
LAST-MODIFIED:20240219T062747Z
UID:588-1709049600-1709056800@zusammen-wachsen.dog
SUMMARY:RO-Training
DESCRIPTION:
URL:https://zusammen-wachsen.dog/event/ro-training-12/
LOCATION:Moorenbrunn\, Moorenbrunn\, 90475
CATEGORIES:Gruppentraining
END:VEVENT
BEGIN:VEVENT
DTSTART;TZID=Europe/Helsinki:20240228T163000
DTEND;TZID=Europe/Helsinki:20240228T173000
DTSTAMP:20260423T122202
CREATED:20240103T065419Z
LAST-MODIFIED:20240118T080241Z
UID:476-1709137800-1709141400@zusammen-wachsen.dog
SUMMARY:Trickreich Fit - Basis-Kurs
DESCRIPTION:Tag 1/6
URL:https://zusammen-wachsen.dog/event/trickreich-fit-basis-kurs/
LOCATION:wird mitgeteilt
CATEGORIES:Gruppentraining
END:VEVENT
BEGIN:VEVENT
DTSTART;TZID=Europe/Paris:20240229T163000
DTEND;TZID=Europe/Paris:20240229T180000
DTSTAMP:20260423T122202
CREATED:20240219T063224Z
LAST-MODIFIED:20240219T063224Z
UID:596-1709224200-1709229600@zusammen-wachsen.dog
SUMMARY:Minddog
DESCRIPTION:
URL:https://zusammen-wachsen.dog/event/minddog-21/
LOCATION:HSG Nürnberg Land e.V.\, Altdorf\, Deutschland
CATEGORIES:Gruppentraining
END:VEVENT
END:VCALENDAR