BEGIN:VCALENDAR
VERSION:2.0
PRODID:-//Zusammen Wachsen - ECPv6.15.15//NONSGML v1.0//EN
CALSCALE:GREGORIAN
METHOD:PUBLISH
X-ORIGINAL-URL:https://zusammen-wachsen.dog
X-WR-CALDESC:Veranstaltungen für Zusammen Wachsen
REFRESH-INTERVAL;VALUE=DURATION:PT1H
X-Robots-Tag:noindex
X-PUBLISHED-TTL:PT1H
BEGIN:VTIMEZONE
TZID:Europe/Paris
BEGIN:DAYLIGHT
TZOFFSETFROM:+0100
TZOFFSETTO:+0200
TZNAME:CEST
DTSTART:20230326T010000
END:DAYLIGHT
BEGIN:STANDARD
TZOFFSETFROM:+0200
TZOFFSETTO:+0100
TZNAME:CET
DTSTART:20231029T010000
END:STANDARD
BEGIN:DAYLIGHT
TZOFFSETFROM:+0100
TZOFFSETTO:+0200
TZNAME:CEST
DTSTART:20240331T010000
END:DAYLIGHT
BEGIN:STANDARD
TZOFFSETFROM:+0200
TZOFFSETTO:+0100
TZNAME:CET
DTSTART:20241027T010000
END:STANDARD
BEGIN:DAYLIGHT
TZOFFSETFROM:+0100
TZOFFSETTO:+0200
TZNAME:CEST
DTSTART:20250330T010000
END:DAYLIGHT
BEGIN:STANDARD
TZOFFSETFROM:+0200
TZOFFSETTO:+0100
TZNAME:CET
DTSTART:20251026T010000
END:STANDARD
END:VTIMEZONE
BEGIN:VEVENT
DTSTART;VALUE=DATE:20240304
DTEND;VALUE=DATE:20240305
DTSTAMP:20260423T110542
CREATED:20240122T055136Z
LAST-MODIFIED:20240226T075534Z
UID:549-1709510400-1709596799@zusammen-wachsen.dog
SUMMARY:Trainer-Schulung
DESCRIPTION:Heute bilde ich mich für euch weiter!
URL:https://zusammen-wachsen.dog/event/ro-training-11/
CATEGORIES:Urlaub
END:VEVENT
BEGIN:VEVENT
DTSTART;TZID=Europe/Paris:20240305T160000
DTEND;TZID=Europe/Paris:20240305T180000
DTSTAMP:20260423T110542
CREATED:20240219T062840Z
LAST-MODIFIED:20240219T062840Z
UID:590-1709654400-1709661600@zusammen-wachsen.dog
SUMMARY:RO-Training
DESCRIPTION:
URL:https://zusammen-wachsen.dog/event/ro-training-13/
LOCATION:Moorenbrunn\, Moorenbrunn\, 90475
CATEGORIES:Gruppentraining
END:VEVENT
BEGIN:VEVENT
DTSTART;TZID=Europe/Paris:20240306T163000
DTEND;TZID=Europe/Paris:20240306T173000
DTSTAMP:20260423T110542
CREATED:20240103T055817Z
LAST-MODIFIED:20240219T055231Z
UID:484-1709742600-1709746200@zusammen-wachsen.dog
SUMMARY:Trickreich Fit – Basis-Kurs
DESCRIPTION:Tag 5/6
URL:https://zusammen-wachsen.dog/event/trickreich-fit-basis-kurs-5/
LOCATION:wird mitgeteilt
CATEGORIES:Gruppentraining
END:VEVENT
BEGIN:VEVENT
DTSTART;TZID=Europe/Paris:20240307T163000
DTEND;TZID=Europe/Paris:20240307T180000
DTSTAMP:20260423T110542
CREATED:20240219T063320Z
LAST-MODIFIED:20240219T063320Z
UID:598-1709829000-1709834400@zusammen-wachsen.dog
SUMMARY:Minddog
DESCRIPTION:
URL:https://zusammen-wachsen.dog/event/minddog-22/
LOCATION:HSG Nürnberg Land e.V.\, Altdorf\, Deutschland
CATEGORIES:Gruppentraining
END:VEVENT
BEGIN:VEVENT
DTSTART;VALUE=DATE:20240308
DTEND;VALUE=DATE:20240324
DTSTAMP:20260423T110542
CREATED:20240104T090513Z
LAST-MODIFIED:20240122T055235Z
UID:504-1709856000-1711238399@zusammen-wachsen.dog
SUMMARY:Betriebsurlaub
DESCRIPTION:
URL:https://zusammen-wachsen.dog/event/betriebsurlaub/
CATEGORIES:Urlaub
END:VEVENT
BEGIN:VEVENT
DTSTART;TZID=Europe/Paris:20240324T100000
DTEND;TZID=Europe/Paris:20240324T130000
DTSTAMP:20260423T110542
CREATED:20240122T055325Z
LAST-MODIFIED:20240219T055640Z
UID:551-1711274400-1711285200@zusammen-wachsen.dog
SUMMARY:Wanderung
DESCRIPTION:Infos folgen
URL:https://zusammen-wachsen.dog/event/wanderung/
LOCATION:wird mitgeteilt
CATEGORIES:Event
ATTACH;FMTTYPE=image/png:https://zusammen-wachsen.dog/wp-content/uploads/2024/02/Wanderung_Uttenreuth.png
END:VEVENT
BEGIN:VEVENT
DTSTART;TZID=Europe/Paris:20240326T160000
DTEND;TZID=Europe/Paris:20240326T180000
DTSTAMP:20260423T110542
CREATED:20240326T051512Z
LAST-MODIFIED:20240326T051512Z
UID:614-1711468800-1711476000@zusammen-wachsen.dog
SUMMARY:RO-Training
DESCRIPTION:
URL:https://zusammen-wachsen.dog/event/ro-training-14/
LOCATION:Moorenbrunn\, Moorenbrunn\, 90475
CATEGORIES:Gruppentraining
END:VEVENT
BEGIN:VEVENT
DTSTART;TZID=Europe/Paris:20240328T163000
DTEND;TZID=Europe/Paris:20240328T180000
DTSTAMP:20260423T110542
CREATED:20240326T051631Z
LAST-MODIFIED:20240326T051631Z
UID:616-1711643400-1711648800@zusammen-wachsen.dog
SUMMARY:Minddog
DESCRIPTION:
URL:https://zusammen-wachsen.dog/event/minddog-23/
LOCATION:HSG Nürnberg Land e.V.\, Altdorf\, Deutschland
CATEGORIES:Gruppentraining
END:VEVENT
END:VCALENDAR