BEGIN:VCALENDAR
VERSION:2.0
PRODID:-//Zusammen Wachsen - ECPv6.15.15//NONSGML v1.0//EN
CALSCALE:GREGORIAN
METHOD:PUBLISH
X-ORIGINAL-URL:https://zusammen-wachsen.dog
X-WR-CALDESC:Veranstaltungen für Zusammen Wachsen
REFRESH-INTERVAL;VALUE=DURATION:PT1H
X-Robots-Tag:noindex
X-PUBLISHED-TTL:PT1H
BEGIN:VTIMEZONE
TZID:Europe/Paris
BEGIN:DAYLIGHT
TZOFFSETFROM:+0100
TZOFFSETTO:+0200
TZNAME:CEST
DTSTART:20230326T010000
END:DAYLIGHT
BEGIN:STANDARD
TZOFFSETFROM:+0200
TZOFFSETTO:+0100
TZNAME:CET
DTSTART:20231029T010000
END:STANDARD
BEGIN:DAYLIGHT
TZOFFSETFROM:+0100
TZOFFSETTO:+0200
TZNAME:CEST
DTSTART:20240331T010000
END:DAYLIGHT
BEGIN:STANDARD
TZOFFSETFROM:+0200
TZOFFSETTO:+0100
TZNAME:CET
DTSTART:20241027T010000
END:STANDARD
BEGIN:DAYLIGHT
TZOFFSETFROM:+0100
TZOFFSETTO:+0200
TZNAME:CEST
DTSTART:20250330T010000
END:DAYLIGHT
BEGIN:STANDARD
TZOFFSETFROM:+0200
TZOFFSETTO:+0100
TZNAME:CET
DTSTART:20251026T010000
END:STANDARD
END:VTIMEZONE
BEGIN:VEVENT
DTSTART;TZID=Europe/Paris:20240402T160000
DTEND;TZID=Europe/Paris:20240402T180000
DTSTAMP:20260423T095622
CREATED:20240326T053824Z
LAST-MODIFIED:20240326T053824Z
UID:635-1712073600-1712080800@zusammen-wachsen.dog
SUMMARY:RO-Training
DESCRIPTION:
URL:https://zusammen-wachsen.dog/event/ro-training-17/
LOCATION:Moorenbrunn\, Moorenbrunn\, 90475
CATEGORIES:Gruppentraining
END:VEVENT
BEGIN:VEVENT
DTSTART;TZID=Europe/Paris:20240404T163000
DTEND;TZID=Europe/Paris:20240404T180000
DTSTAMP:20260423T095622
CREATED:20240326T052319Z
LAST-MODIFIED:20240326T052319Z
UID:622-1712248200-1712253600@zusammen-wachsen.dog
SUMMARY:Minddog
DESCRIPTION:
URL:https://zusammen-wachsen.dog/event/minddog-24/
LOCATION:HSG Nürnberg Land e.V.\, Altdorf\, Deutschland
CATEGORIES:Gruppentraining
END:VEVENT
BEGIN:VEVENT
DTSTART;TZID=Europe/Paris:20240406T100000
DTEND;TZID=Europe/Paris:20240406T130000
DTSTAMP:20260423T095622
CREATED:20240219T062346Z
LAST-MODIFIED:20240219T062346Z
UID:581-1712397600-1712408400@zusammen-wachsen.dog
SUMMARY:Dummy-Spaziergang
DESCRIPTION:
URL:https://zusammen-wachsen.dog/event/dummy-spaziergang/
LOCATION:wird mitgeteilt
CATEGORIES:Event
ATTACH;FMTTYPE=image/png:https://zusammen-wachsen.dog/wp-content/uploads/2024/02/Dummy_Spaziergang_1.png
END:VEVENT
BEGIN:VEVENT
DTSTART;TZID=Europe/Paris:20240409T160000
DTEND;TZID=Europe/Paris:20240409T180000
DTSTAMP:20260423T095622
CREATED:20240326T051828Z
LAST-MODIFIED:20240326T051828Z
UID:620-1712678400-1712685600@zusammen-wachsen.dog
SUMMARY:RO-Training
DESCRIPTION:
URL:https://zusammen-wachsen.dog/event/ro-training-15/
LOCATION:Moorenbrunn\, Moorenbrunn\, 90475
CATEGORIES:Gruppentraining
END:VEVENT
BEGIN:VEVENT
DTSTART;TZID=Europe/Paris:20240411T163000
DTEND;TZID=Europe/Paris:20240411T180000
DTSTAMP:20260423T095622
CREATED:20240326T052403Z
LAST-MODIFIED:20240326T052403Z
UID:624-1712853000-1712858400@zusammen-wachsen.dog
SUMMARY:Minddog
DESCRIPTION:
URL:https://zusammen-wachsen.dog/event/minddog-25/
LOCATION:HSG Nürnberg Land e.V.\, Altdorf\, Deutschland
CATEGORIES:Gruppentraining
END:VEVENT
BEGIN:VEVENT
DTSTART;TZID=Europe/Paris:20240417T160000
DTEND;TZID=Europe/Paris:20240417T180000
DTSTAMP:20260423T095622
CREATED:20240425T044217Z
LAST-MODIFIED:20240425T044217Z
UID:641-1713369600-1713376800@zusammen-wachsen.dog
SUMMARY:RO-Training
DESCRIPTION:
URL:https://zusammen-wachsen.dog/event/ro-training-18/
LOCATION:Moorenbrunn\, Moorenbrunn\, 90475
CATEGORIES:Gruppentraining
END:VEVENT
BEGIN:VEVENT
DTSTART;TZID=Europe/Paris:20240418T163000
DTEND;TZID=Europe/Paris:20240418T180000
DTSTAMP:20260423T095622
CREATED:20240326T052437Z
LAST-MODIFIED:20240326T052437Z
UID:626-1713457800-1713463200@zusammen-wachsen.dog
SUMMARY:Minddog
DESCRIPTION:
URL:https://zusammen-wachsen.dog/event/minddog-26/
LOCATION:HSG Nürnberg Land e.V.\, Altdorf\, Deutschland
CATEGORIES:Gruppentraining
END:VEVENT
BEGIN:VEVENT
DTSTART;TZID=Europe/Paris:20240424T160000
DTEND;TZID=Europe/Paris:20240424T180000
DTSTAMP:20260423T095622
CREATED:20240425T044304Z
LAST-MODIFIED:20240425T044304Z
UID:643-1713974400-1713981600@zusammen-wachsen.dog
SUMMARY:RO-Training
DESCRIPTION:
URL:https://zusammen-wachsen.dog/event/ro-training-19/
LOCATION:Moorenbrunn\, Moorenbrunn\, 90475
CATEGORIES:Gruppentraining
END:VEVENT
BEGIN:VEVENT
DTSTART;TZID=Europe/Paris:20240425T170000
DTEND;TZID=Europe/Paris:20240425T183000
DTSTAMP:20260423T095622
CREATED:20240326T053646Z
LAST-MODIFIED:20240425T044359Z
UID:631-1714064400-1714069800@zusammen-wachsen.dog
SUMMARY:Minddog
DESCRIPTION:
URL:https://zusammen-wachsen.dog/event/minddog-27/
LOCATION:HSG Nürnberg Land e.V.\, Altdorf\, Deutschland
CATEGORIES:Gruppentraining
END:VEVENT
BEGIN:VEVENT
DTSTART;TZID=Europe/Paris:20240428T100000
DTEND;TZID=Europe/Paris:20240428T120000
DTSTAMP:20260423T095622
CREATED:20240122T055611Z
LAST-MODIFIED:20240408T052714Z
UID:553-1714298400-1714305600@zusammen-wachsen.dog
SUMMARY:Wanderung am Rothsee
DESCRIPTION:
URL:https://zusammen-wachsen.dog/event/wanderung-2/
LOCATION:wird mitgeteilt
CATEGORIES:Event
ATTACH;FMTTYPE=image/png:https://zusammen-wachsen.dog/wp-content/uploads/2024/03/Wanderung_Rothsee_28042024.png
END:VEVENT
BEGIN:VEVENT
DTSTART;TZID=Europe/Paris:20240430T160000
DTEND;TZID=Europe/Paris:20240430T180000
DTSTAMP:20260423T095622
CREATED:20240326T053603Z
LAST-MODIFIED:20240326T053603Z
UID:629-1714492800-1714500000@zusammen-wachsen.dog
SUMMARY:RO-Training
DESCRIPTION:
URL:https://zusammen-wachsen.dog/event/ro-training-16/
LOCATION:Moorenbrunn\, Moorenbrunn\, 90475
CATEGORIES:Gruppentraining
END:VEVENT
END:VCALENDAR