BEGIN:VCALENDAR
VERSION:2.0
PRODID:-//Zusammen Wachsen - ECPv6.15.15//NONSGML v1.0//EN
CALSCALE:GREGORIAN
METHOD:PUBLISH
X-WR-CALNAME:Zusammen Wachsen
X-ORIGINAL-URL:https://zusammen-wachsen.dog
X-WR-CALDESC:Veranstaltungen für Zusammen Wachsen
REFRESH-INTERVAL;VALUE=DURATION:PT1H
X-Robots-Tag:noindex
X-PUBLISHED-TTL:PT1H
BEGIN:VTIMEZONE
TZID:Europe/Paris
BEGIN:DAYLIGHT
TZOFFSETFROM:+0100
TZOFFSETTO:+0200
TZNAME:CEST
DTSTART:20230326T010000
END:DAYLIGHT
BEGIN:STANDARD
TZOFFSETFROM:+0200
TZOFFSETTO:+0100
TZNAME:CET
DTSTART:20231029T010000
END:STANDARD
BEGIN:DAYLIGHT
TZOFFSETFROM:+0100
TZOFFSETTO:+0200
TZNAME:CEST
DTSTART:20240331T010000
END:DAYLIGHT
BEGIN:STANDARD
TZOFFSETFROM:+0200
TZOFFSETTO:+0100
TZNAME:CET
DTSTART:20241027T010000
END:STANDARD
BEGIN:DAYLIGHT
TZOFFSETFROM:+0100
TZOFFSETTO:+0200
TZNAME:CEST
DTSTART:20250330T010000
END:DAYLIGHT
BEGIN:STANDARD
TZOFFSETFROM:+0200
TZOFFSETTO:+0100
TZNAME:CET
DTSTART:20251026T010000
END:STANDARD
END:VTIMEZONE
BEGIN:VEVENT
DTSTART;TZID=Europe/Paris:20240502T163000
DTEND;TZID=Europe/Paris:20240502T180000
DTSTAMP:20260423T083911
CREATED:20240326T053723Z
LAST-MODIFIED:20240326T053723Z
UID:633-1714667400-1714672800@zusammen-wachsen.dog
SUMMARY:Minddog
DESCRIPTION:
URL:https://zusammen-wachsen.dog/event/minddog-28/
LOCATION:HSG Nürnberg Land e.V.\, Altdorf\, Deutschland
CATEGORIES:Gruppentraining
END:VEVENT
BEGIN:VEVENT
DTSTART;TZID=Europe/Paris:20240507T160000
DTEND;TZID=Europe/Paris:20240507T180000
DTSTAMP:20260423T083911
CREATED:20240425T044817Z
LAST-MODIFIED:20240425T044817Z
UID:645-1715097600-1715104800@zusammen-wachsen.dog
SUMMARY:RO-Training
DESCRIPTION:
URL:https://zusammen-wachsen.dog/event/ro-training-20/
LOCATION:Moorenbrunn\, Moorenbrunn\, 90475
CATEGORIES:Gruppentraining
END:VEVENT
BEGIN:VEVENT
DTSTART;TZID=Europe/Paris:20240509T163000
DTEND;TZID=Europe/Paris:20240509T183000
DTSTAMP:20260423T083911
CREATED:20240425T044924Z
LAST-MODIFIED:20240425T044924Z
UID:647-1715272200-1715279400@zusammen-wachsen.dog
SUMMARY:Minddog
DESCRIPTION:
URL:https://zusammen-wachsen.dog/event/minddog-29/
LOCATION:HSG Nürnberg Land e.V.\, Altdorf\, Deutschland
CATEGORIES:Gruppentraining
END:VEVENT
BEGIN:VEVENT
DTSTART;VALUE=DATE:20240515
DTEND;VALUE=DATE:20240526
DTSTAMP:20260423T083911
CREATED:20240104T090559Z
LAST-MODIFIED:20240425T044956Z
UID:506-1715731200-1716681599@zusammen-wachsen.dog
SUMMARY:Betriebsurlaub
DESCRIPTION:
URL:https://zusammen-wachsen.dog/event/betriebsurlaub-2/
CATEGORIES:Urlaub
END:VEVENT
BEGIN:VEVENT
DTSTART;VALUE=DATE:20240526
DTEND;VALUE=DATE:20240527
DTSTAMP:20260423T083911
CREATED:20240122T055701Z
LAST-MODIFIED:20240507T041545Z
UID:555-1716681600-1716767999@zusammen-wachsen.dog
SUMMARY:Wanderung Dechsendorf
DESCRIPTION:Infos folgen
URL:https://zusammen-wachsen.dog/event/wanderung-3/
LOCATION:wird mitgeteilt
CATEGORIES:Event
ATTACH;FMTTYPE=image/png:https://zusammen-wachsen.dog/wp-content/uploads/2024/05/WanderungDechsendorf.png
END:VEVENT
BEGIN:VEVENT
DTSTART;TZID=Europe/Paris:20240528T160000
DTEND;TZID=Europe/Paris:20240528T180000
DTSTAMP:20260423T083911
CREATED:20240425T045146Z
LAST-MODIFIED:20240425T045146Z
UID:649-1716912000-1716919200@zusammen-wachsen.dog
SUMMARY:RO-Training
DESCRIPTION:
URL:https://zusammen-wachsen.dog/event/ro-training-21/
LOCATION:Moorenbrunn\, Moorenbrunn\, 90475
CATEGORIES:Gruppentraining
END:VEVENT
END:VCALENDAR