BEGIN:VCALENDAR
VERSION:2.0
PRODID:-//Zusammen Wachsen - ECPv6.15.15//NONSGML v1.0//EN
CALSCALE:GREGORIAN
METHOD:PUBLISH
X-ORIGINAL-URL:https://zusammen-wachsen.dog
X-WR-CALDESC:Veranstaltungen für Zusammen Wachsen
REFRESH-INTERVAL;VALUE=DURATION:PT1H
X-Robots-Tag:noindex
X-PUBLISHED-TTL:PT1H
BEGIN:VTIMEZONE
TZID:Europe/Paris
BEGIN:DAYLIGHT
TZOFFSETFROM:+0100
TZOFFSETTO:+0200
TZNAME:CEST
DTSTART:20230326T010000
END:DAYLIGHT
BEGIN:STANDARD
TZOFFSETFROM:+0200
TZOFFSETTO:+0100
TZNAME:CET
DTSTART:20231029T010000
END:STANDARD
BEGIN:DAYLIGHT
TZOFFSETFROM:+0100
TZOFFSETTO:+0200
TZNAME:CEST
DTSTART:20240331T010000
END:DAYLIGHT
BEGIN:STANDARD
TZOFFSETFROM:+0200
TZOFFSETTO:+0100
TZNAME:CET
DTSTART:20241027T010000
END:STANDARD
BEGIN:DAYLIGHT
TZOFFSETFROM:+0100
TZOFFSETTO:+0200
TZNAME:CEST
DTSTART:20250330T010000
END:DAYLIGHT
BEGIN:STANDARD
TZOFFSETFROM:+0200
TZOFFSETTO:+0100
TZNAME:CET
DTSTART:20251026T010000
END:STANDARD
END:VTIMEZONE
BEGIN:VEVENT
DTSTART;TZID=Europe/Paris:20240701T170000
DTEND;TZID=Europe/Paris:20240701T180000
DTSTAMP:20260423T060621
CREATED:20240625T064055Z
LAST-MODIFIED:20240625T064055Z
UID:712-1719853200-1719856800@zusammen-wachsen.dog
SUMMARY:Dummy-Training
DESCRIPTION:
URL:https://zusammen-wachsen.dog/event/dummy-training-2/
LOCATION:wird mitgeteilt
CATEGORIES:Gruppentraining
END:VEVENT
BEGIN:VEVENT
DTSTART;TZID=Europe/Paris:20240702T160000
DTEND;TZID=Europe/Paris:20240702T180000
DTSTAMP:20260423T060621
CREATED:20240625T062856Z
LAST-MODIFIED:20240625T062856Z
UID:692-1719936000-1719943200@zusammen-wachsen.dog
SUMMARY:RO-Training
DESCRIPTION:
URL:https://zusammen-wachsen.dog/event/ro-training-24/
LOCATION:Moorenbrunn\, Moorenbrunn\, 90475
CATEGORIES:Gruppentraining
END:VEVENT
BEGIN:VEVENT
DTSTART;TZID=Europe/Paris:20240704T163000
DTEND;TZID=Europe/Paris:20240704T183000
DTSTAMP:20260423T060621
CREATED:20240625T063706Z
LAST-MODIFIED:20240625T063947Z
UID:704-1720110600-1720117800@zusammen-wachsen.dog
SUMMARY:Minddog
DESCRIPTION:
URL:https://zusammen-wachsen.dog/event/minddog-34/
LOCATION:HSG Nürnberg Land e.V.\, Altdorf\, Deutschland
CATEGORIES:Gruppentraining
END:VEVENT
BEGIN:VEVENT
DTSTART;TZID=Europe/Paris:20240709T160000
DTEND;TZID=Europe/Paris:20240709T180000
DTSTAMP:20260423T060621
CREATED:20240625T062956Z
LAST-MODIFIED:20240625T062956Z
UID:694-1720540800-1720548000@zusammen-wachsen.dog
SUMMARY:RO-Training
DESCRIPTION:
URL:https://zusammen-wachsen.dog/event/ro-training-26/
LOCATION:Moorenbrunn\, Moorenbrunn\, 90475
CATEGORIES:Gruppentraining
END:VEVENT
BEGIN:VEVENT
DTSTART;TZID=Europe/Paris:20240711T163000
DTEND;TZID=Europe/Paris:20240711T183000
DTSTAMP:20260423T060621
CREATED:20240625T063746Z
LAST-MODIFIED:20240625T063746Z
UID:706-1720715400-1720722600@zusammen-wachsen.dog
SUMMARY:Minddog
DESCRIPTION:
URL:https://zusammen-wachsen.dog/event/minddog-35/
LOCATION:HSG Nürnberg Land e.V.\, Altdorf\, Deutschland
CATEGORIES:Gruppentraining
END:VEVENT
BEGIN:VEVENT
DTSTART;TZID=Europe/Paris:20240714T090000
DTEND;TZID=Europe/Paris:20240714T110000
DTSTAMP:20260423T060621
CREATED:20240122T055959Z
LAST-MODIFIED:20240719T045513Z
UID:559-1720947600-1720954800@zusammen-wachsen.dog
SUMMARY:Wanderung Oberfürberg/Fürth
DESCRIPTION:Infos folgen
URL:https://zusammen-wachsen.dog/event/wanderung-5/
LOCATION:wird mitgeteilt
CATEGORIES:Event
ATTACH;FMTTYPE=image/png:https://zusammen-wachsen.dog/wp-content/uploads/2024/05/ZuWa_RudelSportTeamEvent.png
END:VEVENT
BEGIN:VEVENT
DTSTART;TZID=Europe/Paris:20240715T170000
DTEND;TZID=Europe/Paris:20240715T200000
DTSTAMP:20260423T060621
CREATED:20240625T064237Z
LAST-MODIFIED:20240625T064258Z
UID:714-1721062800-1721073600@zusammen-wachsen.dog
SUMMARY:Maulkorb-Beratung
DESCRIPTION:
URL:https://zusammen-wachsen.dog/event/maulkorb-beratung/
LOCATION:wird mitgeteilt
CATEGORIES:Event
END:VEVENT
BEGIN:VEVENT
DTSTART;TZID=Europe/Paris:20240716T160000
DTEND;TZID=Europe/Paris:20240716T180000
DTSTAMP:20260423T060621
CREATED:20240625T063047Z
LAST-MODIFIED:20240625T063047Z
UID:696-1721145600-1721152800@zusammen-wachsen.dog
SUMMARY:RO-Training
DESCRIPTION:
URL:https://zusammen-wachsen.dog/event/ro-training-27/
LOCATION:Moorenbrunn\, Moorenbrunn\, 90475
CATEGORIES:Gruppentraining
END:VEVENT
BEGIN:VEVENT
DTSTART;TZID=Europe/Paris:20240718T163000
DTEND;TZID=Europe/Paris:20240718T183000
DTSTAMP:20260423T060621
CREATED:20240625T063826Z
LAST-MODIFIED:20240625T063826Z
UID:708-1721320200-1721327400@zusammen-wachsen.dog
SUMMARY:Minddog
DESCRIPTION:
URL:https://zusammen-wachsen.dog/event/minddog-36/
LOCATION:HSG Nürnberg Land e.V.\, Altdorf\, Deutschland
CATEGORIES:Gruppentraining
END:VEVENT
BEGIN:VEVENT
DTSTART;TZID=Europe/Paris:20240723T160000
DTEND;TZID=Europe/Paris:20240723T180000
DTSTAMP:20260423T060621
CREATED:20240625T063145Z
LAST-MODIFIED:20240625T063145Z
UID:698-1721750400-1721757600@zusammen-wachsen.dog
SUMMARY:RO-Training
DESCRIPTION:
URL:https://zusammen-wachsen.dog/event/ro-training-28/
LOCATION:Moorenbrunn\, Moorenbrunn\, 90475
CATEGORIES:Gruppentraining
END:VEVENT
BEGIN:VEVENT
DTSTART;TZID=Europe/Paris:20240725T163000
DTEND;TZID=Europe/Paris:20240725T183000
DTSTAMP:20260423T060621
CREATED:20240625T063921Z
LAST-MODIFIED:20240625T063921Z
UID:710-1721925000-1721932200@zusammen-wachsen.dog
SUMMARY:Minddog
DESCRIPTION:
URL:https://zusammen-wachsen.dog/event/minddog-37/
LOCATION:HSG Nürnberg Land e.V.\, Altdorf\, Deutschland
CATEGORIES:Gruppentraining
END:VEVENT
BEGIN:VEVENT
DTSTART;TZID=Europe/Paris:20240730T160000
DTEND;TZID=Europe/Paris:20240730T180000
DTSTAMP:20260423T060621
CREATED:20240625T063228Z
LAST-MODIFIED:20240625T063228Z
UID:700-1722355200-1722362400@zusammen-wachsen.dog
SUMMARY:RO-Training
DESCRIPTION:
URL:https://zusammen-wachsen.dog/event/ro-training-29/
LOCATION:Moorenbrunn\, Moorenbrunn\, 90475
CATEGORIES:Gruppentraining
END:VEVENT
END:VCALENDAR