BEGIN:VCALENDAR
VERSION:2.0
PRODID:-//Zusammen Wachsen - ECPv6.15.15//NONSGML v1.0//EN
CALSCALE:GREGORIAN
METHOD:PUBLISH
X-ORIGINAL-URL:https://zusammen-wachsen.dog
X-WR-CALDESC:Veranstaltungen für Zusammen Wachsen
REFRESH-INTERVAL;VALUE=DURATION:PT1H
X-Robots-Tag:noindex
X-PUBLISHED-TTL:PT1H
BEGIN:VTIMEZONE
TZID:Europe/Paris
BEGIN:DAYLIGHT
TZOFFSETFROM:+0100
TZOFFSETTO:+0200
TZNAME:CEST
DTSTART:20230326T010000
END:DAYLIGHT
BEGIN:STANDARD
TZOFFSETFROM:+0200
TZOFFSETTO:+0100
TZNAME:CET
DTSTART:20231029T010000
END:STANDARD
BEGIN:DAYLIGHT
TZOFFSETFROM:+0100
TZOFFSETTO:+0200
TZNAME:CEST
DTSTART:20240331T010000
END:DAYLIGHT
BEGIN:STANDARD
TZOFFSETFROM:+0200
TZOFFSETTO:+0100
TZNAME:CET
DTSTART:20241027T010000
END:STANDARD
BEGIN:DAYLIGHT
TZOFFSETFROM:+0100
TZOFFSETTO:+0200
TZNAME:CEST
DTSTART:20250330T010000
END:DAYLIGHT
BEGIN:STANDARD
TZOFFSETFROM:+0200
TZOFFSETTO:+0100
TZNAME:CET
DTSTART:20251026T010000
END:STANDARD
END:VTIMEZONE
BEGIN:VEVENT
DTSTART;TZID=Europe/Paris:20241001T160000
DTEND;TZID=Europe/Paris:20241001T180000
DTSTAMP:20260423T024110
CREATED:20240902T040351Z
LAST-MODIFIED:20240902T040351Z
UID:775-1727798400-1727805600@zusammen-wachsen.dog
SUMMARY:RO-Training
DESCRIPTION:
URL:https://zusammen-wachsen.dog/event/ro-training-37/
LOCATION:Moorenbrunn\, Moorenbrunn\, 90475
CATEGORIES:Gruppentraining
END:VEVENT
BEGIN:VEVENT
DTSTART;TZID=Europe/Paris:20241003T163000
DTEND;TZID=Europe/Paris:20241003T180000
DTSTAMP:20260423T024110
CREATED:20241007T094502Z
LAST-MODIFIED:20241007T094527Z
UID:796-1727973000-1727978400@zusammen-wachsen.dog
SUMMARY:Minddog
DESCRIPTION:
URL:https://zusammen-wachsen.dog/event/minddog-43/
LOCATION:HSG Nürnberg Land e.V.\, Altdorf\, Deutschland
CATEGORIES:Gruppentraining
END:VEVENT
BEGIN:VEVENT
DTSTART;TZID=Europe/Paris:20241006T100000
DTEND;TZID=Europe/Paris:20241006T130000
DTSTAMP:20260423T024110
CREATED:20240902T041512Z
LAST-MODIFIED:20240902T041512Z
UID:779-1728208800-1728219600@zusammen-wachsen.dog
SUMMARY:Train and shoot
DESCRIPTION:
URL:https://zusammen-wachsen.dog/event/train-and-shoot/
LOCATION:wird mitgeteilt
CATEGORIES:Event
ATTACH;FMTTYPE=image/png:https://zusammen-wachsen.dog/wp-content/uploads/2024/09/Dummy_20240801_041134_0000.png
END:VEVENT
BEGIN:VEVENT
DTSTART;TZID=Europe/Paris:20241008T160000
DTEND;TZID=Europe/Paris:20241008T190000
DTSTAMP:20260423T024110
CREATED:20241007T094244Z
LAST-MODIFIED:20241007T094244Z
UID:790-1728403200-1728414000@zusammen-wachsen.dog
SUMMARY:RO-Training
DESCRIPTION:
URL:https://zusammen-wachsen.dog/event/ro-training-38/
LOCATION:Moorenbrunn\, Moorenbrunn\, 90475
CATEGORIES:Gruppentraining
END:VEVENT
BEGIN:VEVENT
DTSTART;TZID=Europe/Paris:20241013T100000
DTEND;TZID=Europe/Paris:20241013T120000
DTSTAMP:20260423T024110
CREATED:20240610T041844Z
LAST-MODIFIED:20241007T093053Z
UID:688-1728813600-1728820800@zusammen-wachsen.dog
SUMMARY:Wanderung
DESCRIPTION:
URL:https://zusammen-wachsen.dog/event/wanderung-8/
CATEGORIES:Event
ATTACH;FMTTYPE=image/png:https://zusammen-wachsen.dog/wp-content/uploads/2024/10/Wanderung_20240916_140549_0000.png
END:VEVENT
BEGIN:VEVENT
DTSTART;TZID=Europe/Paris:20241015T160000
DTEND;TZID=Europe/Paris:20241015T190000
DTSTAMP:20260423T024110
CREATED:20241007T094330Z
LAST-MODIFIED:20241007T094330Z
UID:792-1729008000-1729018800@zusammen-wachsen.dog
SUMMARY:RO-Training
DESCRIPTION:
URL:https://zusammen-wachsen.dog/event/ro-training-39/
LOCATION:Moorenbrunn\, Moorenbrunn\, 90475
CATEGORIES:Gruppentraining
END:VEVENT
BEGIN:VEVENT
DTSTART;VALUE=DATE:20241019
DTEND;VALUE=DATE:20241027
DTSTAMP:20260423T024110
CREATED:20240104T090719Z
LAST-MODIFIED:20240104T090719Z
UID:508-1729296000-1729987199@zusammen-wachsen.dog
SUMMARY:Trainingsferien in Dänemark
DESCRIPTION:
URL:https://zusammen-wachsen.dog/event/trainingsferien-in-daenemark/
CATEGORIES:Event
END:VEVENT
BEGIN:VEVENT
DTSTART;TZID=Europe/Paris:20241029T160000
DTEND;TZID=Europe/Paris:20241029T190000
DTSTAMP:20260423T024110
CREATED:20241007T094411Z
LAST-MODIFIED:20241007T094411Z
UID:794-1730217600-1730228400@zusammen-wachsen.dog
SUMMARY:RO-Training
DESCRIPTION:
URL:https://zusammen-wachsen.dog/event/ro-training-40/
LOCATION:Moorenbrunn\, Moorenbrunn\, 90475
CATEGORIES:Gruppentraining
END:VEVENT
BEGIN:VEVENT
DTSTART;TZID=Europe/Paris:20241030T160000
DTEND;TZID=Europe/Paris:20241030T183000
DTSTAMP:20260423T024110
CREATED:20241106T094730Z
LAST-MODIFIED:20241106T095229Z
UID:807-1730304000-1730313000@zusammen-wachsen.dog
SUMMARY:RO-Training
DESCRIPTION:
URL:https://zusammen-wachsen.dog/event/ro-training-41/
LOCATION:Moorenbrunn\, Moorenbrunn\, 90475
CATEGORIES:Gruppentraining
END:VEVENT
BEGIN:VEVENT
DTSTART;TZID=Europe/Paris:20241031T163000
DTEND;TZID=Europe/Paris:20241031T180000
DTSTAMP:20260423T024110
CREATED:20241007T094616Z
LAST-MODIFIED:20241007T094616Z
UID:798-1730392200-1730397600@zusammen-wachsen.dog
SUMMARY:Minddog
DESCRIPTION:
URL:https://zusammen-wachsen.dog/event/minddog-44/
LOCATION:HSG Nürnberg Land e.V.\, Altdorf\, Deutschland
CATEGORIES:Gruppentraining
END:VEVENT
END:VCALENDAR