BEGIN:VCALENDAR
VERSION:2.0
PRODID:-//Zusammen Wachsen - ECPv6.15.15//NONSGML v1.0//EN
CALSCALE:GREGORIAN
METHOD:PUBLISH
X-ORIGINAL-URL:https://zusammen-wachsen.dog
X-WR-CALDESC:Veranstaltungen für Zusammen Wachsen
REFRESH-INTERVAL;VALUE=DURATION:PT1H
X-Robots-Tag:noindex
X-PUBLISHED-TTL:PT1H
BEGIN:VTIMEZONE
TZID:Europe/Paris
BEGIN:DAYLIGHT
TZOFFSETFROM:+0100
TZOFFSETTO:+0200
TZNAME:CEST
DTSTART:20230326T010000
END:DAYLIGHT
BEGIN:STANDARD
TZOFFSETFROM:+0200
TZOFFSETTO:+0100
TZNAME:CET
DTSTART:20231029T010000
END:STANDARD
BEGIN:DAYLIGHT
TZOFFSETFROM:+0100
TZOFFSETTO:+0200
TZNAME:CEST
DTSTART:20240331T010000
END:DAYLIGHT
BEGIN:STANDARD
TZOFFSETFROM:+0200
TZOFFSETTO:+0100
TZNAME:CET
DTSTART:20241027T010000
END:STANDARD
BEGIN:DAYLIGHT
TZOFFSETFROM:+0100
TZOFFSETTO:+0200
TZNAME:CEST
DTSTART:20250330T010000
END:DAYLIGHT
BEGIN:STANDARD
TZOFFSETFROM:+0200
TZOFFSETTO:+0100
TZNAME:CET
DTSTART:20251026T010000
END:STANDARD
END:VTIMEZONE
BEGIN:VEVENT
DTSTART;TZID=Europe/Paris:20241105T160000
DTEND;TZID=Europe/Paris:20241105T183000
DTSTAMP:20260423T011052
CREATED:20241106T094815Z
LAST-MODIFIED:20241106T095235Z
UID:809-1730822400-1730831400@zusammen-wachsen.dog
SUMMARY:RO-Training
DESCRIPTION:
URL:https://zusammen-wachsen.dog/event/ro-training-42/
LOCATION:Moorenbrunn\, Moorenbrunn\, 90475
CATEGORIES:Gruppentraining
END:VEVENT
BEGIN:VEVENT
DTSTART;VALUE=DATE:20241110
DTEND;VALUE=DATE:20241111
DTSTAMP:20260423T011052
CREATED:20241007T093226Z
LAST-MODIFIED:20241007T093226Z
UID:788-1731196800-1731283199@zusammen-wachsen.dog
SUMMARY:Wanderung
DESCRIPTION:
URL:https://zusammen-wachsen.dog/event/wanderung-9/
LOCATION:wird mitgeteilt
CATEGORIES:Event
END:VEVENT
BEGIN:VEVENT
DTSTART;TZID=Europe/Paris:20241112T160000
DTEND;TZID=Europe/Paris:20241112T183000
DTSTAMP:20260423T011052
CREATED:20241106T094910Z
LAST-MODIFIED:20241106T095241Z
UID:811-1731427200-1731436200@zusammen-wachsen.dog
SUMMARY:RO-Training
DESCRIPTION:
URL:https://zusammen-wachsen.dog/event/ro-training-43/
LOCATION:Moorenbrunn\, Moorenbrunn\, 90475
CATEGORIES:Gruppentraining
END:VEVENT
BEGIN:VEVENT
DTSTART;TZID=Europe/Paris:20241114T163000
DTEND;TZID=Europe/Paris:20241114T180000
DTSTAMP:20260423T011052
CREATED:20241106T095842Z
LAST-MODIFIED:20241106T100014Z
UID:821-1731601800-1731607200@zusammen-wachsen.dog
SUMMARY:Minddog
DESCRIPTION:
URL:https://zusammen-wachsen.dog/event/minddog-45/
LOCATION:HSG Nürnberg Land e.V.\, Altdorf\, Deutschland
CATEGORIES:Gruppentraining
END:VEVENT
BEGIN:VEVENT
DTSTART;TZID=Europe/Paris:20241119T160000
DTEND;TZID=Europe/Paris:20241119T183000
DTSTAMP:20260423T011052
CREATED:20241106T094954Z
LAST-MODIFIED:20241106T095246Z
UID:813-1732032000-1732041000@zusammen-wachsen.dog
SUMMARY:RO-Training
DESCRIPTION:
URL:https://zusammen-wachsen.dog/event/ro-training-44/
LOCATION:Moorenbrunn\, Moorenbrunn\, 90475
CATEGORIES:Gruppentraining
END:VEVENT
BEGIN:VEVENT
DTSTART;TZID=Europe/Paris:20241126T160000
DTEND;TZID=Europe/Paris:20241126T183000
DTSTAMP:20260423T011052
CREATED:20241106T095042Z
LAST-MODIFIED:20241106T095253Z
UID:815-1732636800-1732645800@zusammen-wachsen.dog
SUMMARY:RO-Training
DESCRIPTION:
URL:https://zusammen-wachsen.dog/event/ro-training-45/
LOCATION:Moorenbrunn\, Moorenbrunn\, 90475
CATEGORIES:Gruppentraining
END:VEVENT
BEGIN:VEVENT
DTSTART;TZID=Europe/Paris:20241129T180000
DTEND;TZID=Europe/Paris:20241129T210000
DTSTAMP:20260423T011052
CREATED:20241111T081234Z
LAST-MODIFIED:20241111T081234Z
UID:840-1732903200-1732914000@zusammen-wachsen.dog
SUMMARY:Weihnachtsfeier
DESCRIPTION:
URL:https://zusammen-wachsen.dog/event/weihnachtsfeier/
LOCATION:wird mitgeteilt
CATEGORIES:Event
END:VEVENT
BEGIN:VEVENT
DTSTART;TZID=Europe/Paris:20241130T140000
DTEND;TZID=Europe/Paris:20241130T160000
DTSTAMP:20260423T011052
CREATED:20241111T081434Z
LAST-MODIFIED:20241111T081558Z
UID:842-1732975200-1732982400@zusammen-wachsen.dog
SUMMARY:Zughundesport Workshop
DESCRIPTION:
URL:https://zusammen-wachsen.dog/event/zughundesport-workshop/
CATEGORIES:Event
ATTACH;FMTTYPE=image/png:https://zusammen-wachsen.dog/wp-content/uploads/2024/11/zughundesport2024.png
END:VEVENT
END:VCALENDAR