BEGIN:VCALENDAR
VERSION:2.0
PRODID:-//Zusammen Wachsen - ECPv6.15.15//NONSGML v1.0//EN
CALSCALE:GREGORIAN
METHOD:PUBLISH
X-ORIGINAL-URL:https://zusammen-wachsen.dog
X-WR-CALDESC:Veranstaltungen für Zusammen Wachsen
REFRESH-INTERVAL;VALUE=DURATION:PT1H
X-Robots-Tag:noindex
X-PUBLISHED-TTL:PT1H
BEGIN:VTIMEZONE
TZID:Europe/Paris
BEGIN:DAYLIGHT
TZOFFSETFROM:+0100
TZOFFSETTO:+0200
TZNAME:CEST
DTSTART:20240331T010000
END:DAYLIGHT
BEGIN:STANDARD
TZOFFSETFROM:+0200
TZOFFSETTO:+0100
TZNAME:CET
DTSTART:20241027T010000
END:STANDARD
BEGIN:DAYLIGHT
TZOFFSETFROM:+0100
TZOFFSETTO:+0200
TZNAME:CEST
DTSTART:20250330T010000
END:DAYLIGHT
BEGIN:STANDARD
TZOFFSETFROM:+0200
TZOFFSETTO:+0100
TZNAME:CET
DTSTART:20251026T010000
END:STANDARD
BEGIN:DAYLIGHT
TZOFFSETFROM:+0100
TZOFFSETTO:+0200
TZNAME:CEST
DTSTART:20260329T010000
END:DAYLIGHT
BEGIN:STANDARD
TZOFFSETFROM:+0200
TZOFFSETTO:+0100
TZNAME:CET
DTSTART:20261025T010000
END:STANDARD
END:VTIMEZONE
BEGIN:VEVENT
DTSTART;TZID=Europe/Paris:20250109T180000
DTEND;TZID=Europe/Paris:20250109T190000
DTSTAMP:20260422T222851
CREATED:20241202T095025Z
LAST-MODIFIED:20241202T095025Z
UID:856-1736445600-1736449200@zusammen-wachsen.dog
SUMMARY:Trickreich Fit - Targets
DESCRIPTION:
URL:https://zusammen-wachsen.dog/event/trickreich-fit-targets/
LOCATION:wird mitgeteilt
CATEGORIES:Online
END:VEVENT
BEGIN:VEVENT
DTSTART;TZID=Europe/Paris:20250116T180000
DTEND;TZID=Europe/Paris:20250116T190000
DTSTAMP:20260422T222851
CREATED:20241202T095059Z
LAST-MODIFIED:20241202T095410Z
UID:858-1737050400-1737054000@zusammen-wachsen.dog
SUMMARY:Trickreich Fit - Targets
DESCRIPTION:
URL:https://zusammen-wachsen.dog/event/trickreich-fit-targets-2/
LOCATION:wird mitgeteilt
CATEGORIES:Online
END:VEVENT
BEGIN:VEVENT
DTSTART;TZID=Europe/Paris:20250122T190000
DTEND;TZID=Europe/Paris:20250122T200000
DTSTAMP:20260422T222851
CREATED:20250116T062817Z
LAST-MODIFIED:20250116T062849Z
UID:913-1737572400-1737576000@zusammen-wachsen.dog
SUMMARY:Hundestammtisch
DESCRIPTION:An Zoom-Meeting teilnehmen\nhttps://us06web.zoom.us/j/86053541105?pwd=0ZXdiOEQaswGqirCunfeosTIRMIK7B.1 \nMeeting-ID: 860 5354 1105\nKenncode: 432652
URL:https://zusammen-wachsen.dog/event/hundestammtisch/
LOCATION:Zoom
CATEGORIES:Event,Online
ATTACH;FMTTYPE=image/png:https://zusammen-wachsen.dog/wp-content/uploads/2025/01/Hundestammtisch.png
END:VEVENT
BEGIN:VEVENT
DTSTART;TZID=Europe/Paris:20250123T180000
DTEND;TZID=Europe/Paris:20250123T190000
DTSTAMP:20260422T222851
CREATED:20241202T095125Z
LAST-MODIFIED:20241202T095421Z
UID:860-1737655200-1737658800@zusammen-wachsen.dog
SUMMARY:Trickreich Fit - Targets
DESCRIPTION:
URL:https://zusammen-wachsen.dog/event/trickreich-fit-targets-3/
LOCATION:wird mitgeteilt
CATEGORIES:Online
END:VEVENT
BEGIN:VEVENT
DTSTART;TZID=Europe/Paris:20250123T190000
DTEND;TZID=Europe/Paris:20250123T200000
DTSTAMP:20260422T222851
CREATED:20250102T113321Z
LAST-MODIFIED:20250102T113420Z
UID:884-1737658800-1737662400@zusammen-wachsen.dog
SUMMARY:Trickreich Fit - Offene Gruppe
DESCRIPTION:
URL:https://zusammen-wachsen.dog/event/trickreich-fit-offene-gruppe/
LOCATION:Zoom
CATEGORIES:Online
END:VEVENT
BEGIN:VEVENT
DTSTART;TZID=Europe/Paris:20250125T090000
DTEND;TZID=Europe/Paris:20250125T110000
DTSTAMP:20260422T222851
CREATED:20241202T095640Z
LAST-MODIFIED:20250109T053309Z
UID:868-1737795600-1737802800@zusammen-wachsen.dog
SUMMARY:DogHike bei den Wildpferden
DESCRIPTION:gemeinsam mit Rudelsport Team Event \nVoraussetzung: \nZuggeschirr für den Hund\, sowie Zugleine und Gürtel \nAblauf:\nAm Anfang gehen wir noch normal an der Leine zum warm gehen und lösen der Hunde und um einfach anzukommen. Dann wird umgespannt und wir gehen zügig eine Runde um das Wildpferdgehege. \nLänge: ca. 8\,5 km
URL:https://zusammen-wachsen.dog/event/doghike-bei-den-wildpferden/
LOCATION:wird mitgeteilt
CATEGORIES:Event
ATTACH;FMTTYPE=image/png:https://zusammen-wachsen.dog/wp-content/uploads/2025/01/RudelSportTeamEvent_20250106_080820_0000.png
END:VEVENT
BEGIN:VEVENT
DTSTART;TZID=Europe/Paris:20250126T100000
DTEND;TZID=Europe/Paris:20250126T130000
DTSTAMP:20260422T222851
CREATED:20250109T053230Z
LAST-MODIFIED:20250109T053349Z
UID:909-1737885600-1737896400@zusammen-wachsen.dog
SUMMARY:Wanderung
DESCRIPTION:
URL:https://zusammen-wachsen.dog/event/wanderung-11/
LOCATION:wird mitgeteilt
CATEGORIES:Event
ATTACH;FMTTYPE=image/png:https://zusammen-wachsen.dog/wp-content/uploads/2025/01/Wanderung_20250106_080805_0000.png
END:VEVENT
BEGIN:VEVENT
DTSTART;TZID=Europe/Paris:20250129T190000
DTEND;TZID=Europe/Paris:20250129T200000
DTSTAMP:20260422T222851
CREATED:20250116T062938Z
LAST-MODIFIED:20250116T062938Z
UID:916-1738177200-1738180800@zusammen-wachsen.dog
SUMMARY:Hundestammtisch
DESCRIPTION:An Zoom-Meeting teilnehmen\nhttps://us06web.zoom.us/j/86053541105?pwd=0ZXdiOEQaswGqirCunfeosTIRMIK7B.1 \nMeeting-ID: 860 5354 1105\nKenncode: 432652
URL:https://zusammen-wachsen.dog/event/hundestammtisch-2/
LOCATION:Zoom
CATEGORIES:Event,Online
ATTACH;FMTTYPE=image/png:https://zusammen-wachsen.dog/wp-content/uploads/2025/01/Hundestammtisch.png
END:VEVENT
BEGIN:VEVENT
DTSTART;TZID=Europe/Paris:20250130T180000
DTEND;TZID=Europe/Paris:20250130T190000
DTSTAMP:20260422T222851
CREATED:20241202T095146Z
LAST-MODIFIED:20241202T095426Z
UID:862-1738260000-1738263600@zusammen-wachsen.dog
SUMMARY:Trickreich Fit - Targets
DESCRIPTION:
URL:https://zusammen-wachsen.dog/event/trickreich-fit-targets-4/
LOCATION:wird mitgeteilt
CATEGORIES:Online
END:VEVENT
BEGIN:VEVENT
DTSTART;TZID=Europe/Paris:20250130T190000
DTEND;TZID=Europe/Paris:20250130T200000
DTSTAMP:20260422T222851
CREATED:20250102T113511Z
LAST-MODIFIED:20250102T113847Z
UID:888-1738263600-1738267200@zusammen-wachsen.dog
SUMMARY:Trickreich Fit - Offene Gruppe
DESCRIPTION:
URL:https://zusammen-wachsen.dog/event/trickreich-fit-offene-gruppe-2/
LOCATION:Zoom
CATEGORIES:Online
END:VEVENT
END:VCALENDAR