BEGIN:VCALENDAR
VERSION:2.0
PRODID:-//Zusammen Wachsen - ECPv6.15.15//NONSGML v1.0//EN
CALSCALE:GREGORIAN
METHOD:PUBLISH
X-WR-CALNAME:Zusammen Wachsen
X-ORIGINAL-URL:https://zusammen-wachsen.dog
X-WR-CALDESC:Veranstaltungen für Zusammen Wachsen
REFRESH-INTERVAL;VALUE=DURATION:PT1H
X-Robots-Tag:noindex
X-PUBLISHED-TTL:PT1H
BEGIN:VTIMEZONE
TZID:Europe/Paris
BEGIN:DAYLIGHT
TZOFFSETFROM:+0100
TZOFFSETTO:+0200
TZNAME:CEST
DTSTART:20240331T010000
END:DAYLIGHT
BEGIN:STANDARD
TZOFFSETFROM:+0200
TZOFFSETTO:+0100
TZNAME:CET
DTSTART:20241027T010000
END:STANDARD
BEGIN:DAYLIGHT
TZOFFSETFROM:+0100
TZOFFSETTO:+0200
TZNAME:CEST
DTSTART:20250330T010000
END:DAYLIGHT
BEGIN:STANDARD
TZOFFSETFROM:+0200
TZOFFSETTO:+0100
TZNAME:CET
DTSTART:20251026T010000
END:STANDARD
BEGIN:DAYLIGHT
TZOFFSETFROM:+0100
TZOFFSETTO:+0200
TZNAME:CEST
DTSTART:20260329T010000
END:DAYLIGHT
BEGIN:STANDARD
TZOFFSETFROM:+0200
TZOFFSETTO:+0100
TZNAME:CET
DTSTART:20261025T010000
END:STANDARD
END:VTIMEZONE
BEGIN:VEVENT
DTSTART;TZID=Europe/Paris:20250205T190000
DTEND;TZID=Europe/Paris:20250205T200000
DTSTAMP:20260422T211625
CREATED:20250116T063022Z
LAST-MODIFIED:20250116T063022Z
UID:918-1738782000-1738785600@zusammen-wachsen.dog
SUMMARY:Hundestammtisch
DESCRIPTION:An Zoom-Meeting teilnehmen\nhttps://us06web.zoom.us/j/86053541105?pwd=0ZXdiOEQaswGqirCunfeosTIRMIK7B.1 \nMeeting-ID: 860 5354 1105\nKenncode: 432652
URL:https://zusammen-wachsen.dog/event/hundestammtisch-3/
LOCATION:Zoom
CATEGORIES:Event,Online
ATTACH;FMTTYPE=image/png:https://zusammen-wachsen.dog/wp-content/uploads/2025/01/Hundestammtisch.png
END:VEVENT
BEGIN:VEVENT
DTSTART;TZID=Europe/Paris:20250206T180000
DTEND;TZID=Europe/Paris:20250206T190000
DTSTAMP:20260422T211625
CREATED:20241202T095213Z
LAST-MODIFIED:20241202T095431Z
UID:864-1738864800-1738868400@zusammen-wachsen.dog
SUMMARY:Trickreich Fit - Targets
DESCRIPTION:
URL:https://zusammen-wachsen.dog/event/trickreich-fit-targets-5/
LOCATION:wird mitgeteilt
CATEGORIES:Online
END:VEVENT
BEGIN:VEVENT
DTSTART;TZID=Europe/Paris:20250206T190000
DTEND;TZID=Europe/Paris:20250206T200000
DTSTAMP:20260422T211625
CREATED:20250102T113557Z
LAST-MODIFIED:20250102T113857Z
UID:890-1738868400-1738872000@zusammen-wachsen.dog
SUMMARY:Trickreich Fit - Offene Gruppe
DESCRIPTION:
URL:https://zusammen-wachsen.dog/event/trickreich-fit-offene-gruppe-3/
LOCATION:Zoom
CATEGORIES:Online
END:VEVENT
BEGIN:VEVENT
DTSTART;TZID=Europe/Paris:20250212T190000
DTEND;TZID=Europe/Paris:20250212T200000
DTSTAMP:20260422T211625
CREATED:20250116T063102Z
LAST-MODIFIED:20250116T063102Z
UID:920-1739386800-1739390400@zusammen-wachsen.dog
SUMMARY:Hundestammtisch
DESCRIPTION:An Zoom-Meeting teilnehmen\nhttps://us06web.zoom.us/j/86053541105?pwd=0ZXdiOEQaswGqirCunfeosTIRMIK7B.1 \nMeeting-ID: 860 5354 1105\nKenncode: 432652
URL:https://zusammen-wachsen.dog/event/hundestammtisch-4/
LOCATION:Zoom
CATEGORIES:Event,Online
ATTACH;FMTTYPE=image/png:https://zusammen-wachsen.dog/wp-content/uploads/2025/01/Hundestammtisch.png
END:VEVENT
BEGIN:VEVENT
DTSTART;TZID=Europe/Paris:20250213T180000
DTEND;TZID=Europe/Paris:20250213T190000
DTSTAMP:20260422T211625
CREATED:20241202T095341Z
LAST-MODIFIED:20241202T095435Z
UID:866-1739469600-1739473200@zusammen-wachsen.dog
SUMMARY:Trickreich Fit - Targets
DESCRIPTION:
URL:https://zusammen-wachsen.dog/event/trickreich-fit-targets-6/
LOCATION:wird mitgeteilt
CATEGORIES:Online
END:VEVENT
BEGIN:VEVENT
DTSTART;TZID=Europe/Paris:20250213T190000
DTEND;TZID=Europe/Paris:20250213T200000
DTSTAMP:20260422T211625
CREATED:20250102T113630Z
LAST-MODIFIED:20250102T113912Z
UID:892-1739473200-1739476800@zusammen-wachsen.dog
SUMMARY:Trickreich Fit - Offene Gruppe
DESCRIPTION:
URL:https://zusammen-wachsen.dog/event/trickreich-fit-offene-gruppe-4/
LOCATION:Zoom
CATEGORIES:Online
END:VEVENT
BEGIN:VEVENT
DTSTART;TZID=Europe/Paris:20250219T190000
DTEND;TZID=Europe/Paris:20250219T200000
DTSTAMP:20260422T211625
CREATED:20250116T063145Z
LAST-MODIFIED:20250116T063145Z
UID:922-1739991600-1739995200@zusammen-wachsen.dog
SUMMARY:Hundestammtisch
DESCRIPTION:An Zoom-Meeting teilnehmen\nhttps://us06web.zoom.us/j/86053541105?pwd=0ZXdiOEQaswGqirCunfeosTIRMIK7B.1 \nMeeting-ID: 860 5354 1105\nKenncode: 432652
URL:https://zusammen-wachsen.dog/event/hundestammtisch-5/
LOCATION:Zoom
CATEGORIES:Event,Online
ATTACH;FMTTYPE=image/png:https://zusammen-wachsen.dog/wp-content/uploads/2025/01/Hundestammtisch.png
END:VEVENT
BEGIN:VEVENT
DTSTART;TZID=Europe/Paris:20250220T190000
DTEND;TZID=Europe/Paris:20250220T200000
DTSTAMP:20260422T211625
CREATED:20250102T113703Z
LAST-MODIFIED:20250102T113919Z
UID:894-1740078000-1740081600@zusammen-wachsen.dog
SUMMARY:Trickreich Fit - Offene Gruppe
DESCRIPTION:
URL:https://zusammen-wachsen.dog/event/trickreich-fit-offene-gruppe-5/
LOCATION:Zoom
CATEGORIES:Online
END:VEVENT
BEGIN:VEVENT
DTSTART;TZID=Europe/Paris:20250226T190000
DTEND;TZID=Europe/Paris:20250226T200000
DTSTAMP:20260422T211625
CREATED:20250116T063253Z
LAST-MODIFIED:20250116T063253Z
UID:924-1740596400-1740600000@zusammen-wachsen.dog
SUMMARY:Hundestammtisch
DESCRIPTION:An Zoom-Meeting teilnehmen\nhttps://us06web.zoom.us/j/86053541105?pwd=0ZXdiOEQaswGqirCunfeosTIRMIK7B.1 \nMeeting-ID: 860 5354 1105\nKenncode: 432652
URL:https://zusammen-wachsen.dog/event/hundestammtisch-6/
LOCATION:Zoom
CATEGORIES:Event,Online
ATTACH;FMTTYPE=image/png:https://zusammen-wachsen.dog/wp-content/uploads/2025/01/Hundestammtisch.png
END:VEVENT
BEGIN:VEVENT
DTSTART;TZID=Europe/Paris:20250227T190000
DTEND;TZID=Europe/Paris:20250227T200000
DTSTAMP:20260422T211625
CREATED:20250102T113739Z
LAST-MODIFIED:20250102T113925Z
UID:896-1740682800-1740686400@zusammen-wachsen.dog
SUMMARY:Trickreich Fit - Offene Gruppe
DESCRIPTION:
URL:https://zusammen-wachsen.dog/event/trickreich-fit-offene-gruppe-6/
LOCATION:Zoom
CATEGORIES:Online
END:VEVENT
END:VCALENDAR