BEGIN:VCALENDAR
VERSION:2.0
PRODID:-//Zusammen Wachsen - ECPv6.15.15//NONSGML v1.0//EN
CALSCALE:GREGORIAN
METHOD:PUBLISH
X-WR-CALNAME:Zusammen Wachsen
X-ORIGINAL-URL:https://zusammen-wachsen.dog
X-WR-CALDESC:Veranstaltungen für Zusammen Wachsen
REFRESH-INTERVAL;VALUE=DURATION:PT1H
X-Robots-Tag:noindex
X-PUBLISHED-TTL:PT1H
BEGIN:VTIMEZONE
TZID:Europe/Paris
BEGIN:DAYLIGHT
TZOFFSETFROM:+0100
TZOFFSETTO:+0200
TZNAME:CEST
DTSTART:20240331T010000
END:DAYLIGHT
BEGIN:STANDARD
TZOFFSETFROM:+0200
TZOFFSETTO:+0100
TZNAME:CET
DTSTART:20241027T010000
END:STANDARD
BEGIN:DAYLIGHT
TZOFFSETFROM:+0100
TZOFFSETTO:+0200
TZNAME:CEST
DTSTART:20250330T010000
END:DAYLIGHT
BEGIN:STANDARD
TZOFFSETFROM:+0200
TZOFFSETTO:+0100
TZNAME:CET
DTSTART:20251026T010000
END:STANDARD
BEGIN:DAYLIGHT
TZOFFSETFROM:+0100
TZOFFSETTO:+0200
TZNAME:CEST
DTSTART:20260329T010000
END:DAYLIGHT
BEGIN:STANDARD
TZOFFSETFROM:+0200
TZOFFSETTO:+0100
TZNAME:CET
DTSTART:20261025T010000
END:STANDARD
END:VTIMEZONE
BEGIN:VEVENT
DTSTART;TZID=Europe/Paris:20250401T160000
DTEND;TZID=Europe/Paris:20250401T190000
DTSTAMP:20260422T181134
CREATED:20250313T073706Z
LAST-MODIFIED:20250408T045302Z
UID:975-1743523200-1743534000@zusammen-wachsen.dog
SUMMARY:RO-Training
DESCRIPTION:Sofern das Wetter stabiler wird und der Boden den Frost verkraftet hat\, starten wir wieder mit wöchentlichem RO-Training.
URL:https://zusammen-wachsen.dog/event/voraussichtlich-start-ro-training/
LOCATION:Moorenbrunn\, Moorenbrunn\, 90475
CATEGORIES:Gruppentraining
END:VEVENT
BEGIN:VEVENT
DTSTART;TZID=Europe/Paris:20250402T180000
DTEND;TZID=Europe/Paris:20250402T190000
DTSTAMP:20260422T181134
CREATED:20250313T073134Z
LAST-MODIFIED:20250313T073134Z
UID:959-1743616800-1743620400@zusammen-wachsen.dog
SUMMARY:Begleithunde-Training
DESCRIPTION:An Zoom-Meeting teilnehmen\nhttps://us06web.zoom.us/j/81954367229?pwd=o3LxM0EU8PxbFcyfICRyhvFi3aaLbW.1 \nMeeting-ID: 819 5436 7229\nKenncode: 353231
URL:https://zusammen-wachsen.dog/event/begleithunde-training-2/
LOCATION:Zoom
CATEGORIES:Gruppentraining,Online
END:VEVENT
BEGIN:VEVENT
DTSTART;TZID=Europe/Paris:20250402T190000
DTEND;TZID=Europe/Paris:20250402T200000
DTSTAMP:20260422T181134
CREATED:20250313T073407Z
LAST-MODIFIED:20250313T073407Z
UID:965-1743620400-1743624000@zusammen-wachsen.dog
SUMMARY:Hundestammtisch
DESCRIPTION:An Zoom-Meeting teilnehmen\nhttps://us06web.zoom.us/j/86053541105?pwd=0ZXdiOEQaswGqirCunfeosTIRMIK7B.1 \nMeeting-ID: 860 5354 1105\nKenncode: 432652
URL:https://zusammen-wachsen.dog/event/hundestammtisch-11/
LOCATION:Zoom
CATEGORIES:Event,Online
END:VEVENT
BEGIN:VEVENT
DTSTART;VALUE=DATE:20250405
DTEND;VALUE=DATE:20250407
DTSTAMP:20260422T181134
CREATED:20240924T075216Z
LAST-MODIFIED:20240924T075216Z
UID:782-1743811200-1743983999@zusammen-wachsen.dog
SUMMARY:Wasser-Dummy-Seminar
DESCRIPTION:… im Schlosspark Dennenlohe
URL:https://zusammen-wachsen.dog/event/wasser-dummy-seminar/
LOCATION:wird mitgeteilt
CATEGORIES:Event
END:VEVENT
BEGIN:VEVENT
DTSTART;TZID=Europe/Paris:20250408T160000
DTEND;TZID=Europe/Paris:20250408T190000
DTSTAMP:20260422T181134
CREATED:20250408T045450Z
LAST-MODIFIED:20250408T045450Z
UID:988-1744128000-1744138800@zusammen-wachsen.dog
SUMMARY:RO-Training
DESCRIPTION:
URL:https://zusammen-wachsen.dog/event/ro-training-50/
LOCATION:Moorenbrunn\, Moorenbrunn\, 90475
CATEGORIES:Gruppentraining
END:VEVENT
BEGIN:VEVENT
DTSTART;TZID=Europe/Paris:20250409T190000
DTEND;TZID=Europe/Paris:20250409T200000
DTSTAMP:20260422T181134
CREATED:20250313T073440Z
LAST-MODIFIED:20250313T073440Z
UID:967-1744225200-1744228800@zusammen-wachsen.dog
SUMMARY:Hundestammtisch
DESCRIPTION:An Zoom-Meeting teilnehmen\nhttps://us06web.zoom.us/j/86053541105?pwd=0ZXdiOEQaswGqirCunfeosTIRMIK7B.1 \nMeeting-ID: 860 5354 1105\nKenncode: 432652
URL:https://zusammen-wachsen.dog/event/hundestammtisch-12/
LOCATION:Zoom
CATEGORIES:Event,Online
END:VEVENT
BEGIN:VEVENT
DTSTART;TZID=Europe/Paris:20250415T160000
DTEND;TZID=Europe/Paris:20250415T190000
DTSTAMP:20260422T181134
CREATED:20250408T045534Z
LAST-MODIFIED:20250408T045534Z
UID:990-1744732800-1744743600@zusammen-wachsen.dog
SUMMARY:RO-Training
DESCRIPTION:
URL:https://zusammen-wachsen.dog/event/ro-training-51/
LOCATION:Moorenbrunn\, Moorenbrunn\, 90475
CATEGORIES:Gruppentraining
END:VEVENT
BEGIN:VEVENT
DTSTART;TZID=Europe/Paris:20250416T180000
DTEND;TZID=Europe/Paris:20250416T190000
DTSTAMP:20260422T181134
CREATED:20250313T073223Z
LAST-MODIFIED:20250313T073223Z
UID:961-1744826400-1744830000@zusammen-wachsen.dog
SUMMARY:Begleithunde-Training
DESCRIPTION:An Zoom-Meeting teilnehmen\nhttps://us06web.zoom.us/j/81954367229?pwd=o3LxM0EU8PxbFcyfICRyhvFi3aaLbW.1 \nMeeting-ID: 819 5436 7229\nKenncode: 353231
URL:https://zusammen-wachsen.dog/event/begleithunde-training-3/
LOCATION:Zoom
CATEGORIES:Gruppentraining,Online
END:VEVENT
BEGIN:VEVENT
DTSTART;TZID=Europe/Paris:20250416T190000
DTEND;TZID=Europe/Paris:20250416T200000
DTSTAMP:20260422T181134
CREATED:20250313T073511Z
LAST-MODIFIED:20250313T073511Z
UID:969-1744830000-1744833600@zusammen-wachsen.dog
SUMMARY:Hundestammtisch
DESCRIPTION:An Zoom-Meeting teilnehmen\nhttps://us06web.zoom.us/j/86053541105?pwd=0ZXdiOEQaswGqirCunfeosTIRMIK7B.1 \nMeeting-ID: 860 5354 1105\nKenncode: 432652
URL:https://zusammen-wachsen.dog/event/hundestammtisch-13/
LOCATION:Zoom
CATEGORIES:Event,Online
END:VEVENT
BEGIN:VEVENT
DTSTART;TZID=Europe/Paris:20250417T190000
DTEND;TZID=Europe/Paris:20250417T200000
DTSTAMP:20260422T181134
CREATED:20250408T052110Z
LAST-MODIFIED:20250408T052339Z
UID:1039-1744916400-1744920000@zusammen-wachsen.dog
SUMMARY:Trickreich Fit – Offene Gruppe
DESCRIPTION:
URL:https://zusammen-wachsen.dog/event/trickreich-fit-offene-gruppe-7/
LOCATION:Zoom
CATEGORIES:Gruppentraining,Online
END:VEVENT
BEGIN:VEVENT
DTSTART;TZID=Europe/Paris:20250423T190000
DTEND;TZID=Europe/Paris:20250423T200000
DTSTAMP:20260422T181134
CREATED:20250313T073539Z
LAST-MODIFIED:20250313T073539Z
UID:971-1745434800-1745438400@zusammen-wachsen.dog
SUMMARY:Hundestammtisch
DESCRIPTION:An Zoom-Meeting teilnehmen\nhttps://us06web.zoom.us/j/86053541105?pwd=0ZXdiOEQaswGqirCunfeosTIRMIK7B.1 \nMeeting-ID: 860 5354 1105\nKenncode: 432652
URL:https://zusammen-wachsen.dog/event/hundestammtisch-14/
LOCATION:Zoom
CATEGORIES:Event,Online
END:VEVENT
BEGIN:VEVENT
DTSTART;TZID=Europe/Paris:20250424T190000
DTEND;TZID=Europe/Paris:20250424T200000
DTSTAMP:20260422T181134
CREATED:20250408T052135Z
LAST-MODIFIED:20250408T052342Z
UID:1041-1745521200-1745524800@zusammen-wachsen.dog
SUMMARY:Trickreich Fit – Offene Gruppe
DESCRIPTION:
URL:https://zusammen-wachsen.dog/event/trickreich-fit-offene-gruppe-8/
LOCATION:Zoom
CATEGORIES:Gruppentraining,Online
END:VEVENT
BEGIN:VEVENT
DTSTART;TZID=Europe/Paris:20250427T100000
DTEND;TZID=Europe/Paris:20250427T130000
DTSTAMP:20260422T181134
CREATED:20250408T051601Z
LAST-MODIFIED:20250408T051831Z
UID:1033-1745748000-1745758800@zusammen-wachsen.dog
SUMMARY:Wanderung
DESCRIPTION:
URL:https://zusammen-wachsen.dog/event/wanderung-13/
LOCATION:wird mitgeteilt
CATEGORIES:Event
END:VEVENT
BEGIN:VEVENT
DTSTART;TZID=Europe/Paris:20250429T160000
DTEND;TZID=Europe/Paris:20250429T190000
DTSTAMP:20260422T181134
CREATED:20250408T045605Z
LAST-MODIFIED:20250408T045605Z
UID:992-1745942400-1745953200@zusammen-wachsen.dog
SUMMARY:RO-Training
DESCRIPTION:
URL:https://zusammen-wachsen.dog/event/ro-training-52/
LOCATION:Moorenbrunn\, Moorenbrunn\, 90475
CATEGORIES:Gruppentraining
END:VEVENT
BEGIN:VEVENT
DTSTART;TZID=Europe/Paris:20250430T180000
DTEND;TZID=Europe/Paris:20250430T190000
DTSTAMP:20260422T181134
CREATED:20250313T073306Z
LAST-MODIFIED:20250313T073306Z
UID:963-1746036000-1746039600@zusammen-wachsen.dog
SUMMARY:Begleithunde-Training
DESCRIPTION:An Zoom-Meeting teilnehmen\nhttps://us06web.zoom.us/j/81954367229?pwd=o3LxM0EU8PxbFcyfICRyhvFi3aaLbW.1 \nMeeting-ID: 819 5436 7229\nKenncode: 353231
URL:https://zusammen-wachsen.dog/event/begleithunde-training-4/
LOCATION:Zoom
CATEGORIES:Gruppentraining,Online
END:VEVENT
BEGIN:VEVENT
DTSTART;TZID=Europe/Paris:20250430T190000
DTEND;TZID=Europe/Paris:20250430T200000
DTSTAMP:20260422T181134
CREATED:20250313T073605Z
LAST-MODIFIED:20250313T073605Z
UID:973-1746039600-1746043200@zusammen-wachsen.dog
SUMMARY:Hundestammtisch
DESCRIPTION:An Zoom-Meeting teilnehmen\nhttps://us06web.zoom.us/j/86053541105?pwd=0ZXdiOEQaswGqirCunfeosTIRMIK7B.1 \nMeeting-ID: 860 5354 1105\nKenncode: 432652
URL:https://zusammen-wachsen.dog/event/hundestammtisch-15/
LOCATION:Zoom
CATEGORIES:Event,Online
END:VEVENT
END:VCALENDAR