BEGIN:VCALENDAR
VERSION:2.0
PRODID:-//Zusammen Wachsen - ECPv6.15.15//NONSGML v1.0//EN
CALSCALE:GREGORIAN
METHOD:PUBLISH
X-ORIGINAL-URL:https://zusammen-wachsen.dog
X-WR-CALDESC:Veranstaltungen für Zusammen Wachsen
REFRESH-INTERVAL;VALUE=DURATION:PT1H
X-Robots-Tag:noindex
X-PUBLISHED-TTL:PT1H
BEGIN:VTIMEZONE
TZID:Europe/Paris
BEGIN:DAYLIGHT
TZOFFSETFROM:+0100
TZOFFSETTO:+0200
TZNAME:CEST
DTSTART:20240331T010000
END:DAYLIGHT
BEGIN:STANDARD
TZOFFSETFROM:+0200
TZOFFSETTO:+0100
TZNAME:CET
DTSTART:20241027T010000
END:STANDARD
BEGIN:DAYLIGHT
TZOFFSETFROM:+0100
TZOFFSETTO:+0200
TZNAME:CEST
DTSTART:20250330T010000
END:DAYLIGHT
BEGIN:STANDARD
TZOFFSETFROM:+0200
TZOFFSETTO:+0100
TZNAME:CET
DTSTART:20251026T010000
END:STANDARD
BEGIN:DAYLIGHT
TZOFFSETFROM:+0100
TZOFFSETTO:+0200
TZNAME:CEST
DTSTART:20260329T010000
END:DAYLIGHT
BEGIN:STANDARD
TZOFFSETFROM:+0200
TZOFFSETTO:+0100
TZNAME:CET
DTSTART:20261025T010000
END:STANDARD
END:VTIMEZONE
BEGIN:VEVENT
DTSTART;TZID=Europe/Paris:20250603T160000
DTEND;TZID=Europe/Paris:20250603T190000
DTSTAMP:20260422T152817
CREATED:20250408T050028Z
LAST-MODIFIED:20250408T050028Z
UID:1003-1748966400-1748977200@zusammen-wachsen.dog
SUMMARY:RO-Training
DESCRIPTION:
URL:https://zusammen-wachsen.dog/event/ro-training-57/
LOCATION:Moorenbrunn\, Moorenbrunn\, 90475
CATEGORIES:Gruppentraining
END:VEVENT
BEGIN:VEVENT
DTSTART;VALUE=DATE:20250604
DTEND;VALUE=DATE:20250612
DTSTAMP:20260422T152817
CREATED:20250102T114521Z
LAST-MODIFIED:20250102T114521Z
UID:903-1748995200-1749686399@zusammen-wachsen.dog
SUMMARY:Urlaub
DESCRIPTION:
URL:https://zusammen-wachsen.dog/event/urlaub-2/
CATEGORIES:Urlaub
END:VEVENT
BEGIN:VEVENT
DTSTART;TZID=Europe/Paris:20250611T180000
DTEND;TZID=Europe/Paris:20250611T190000
DTSTAMP:20260422T152817
CREATED:20250408T050543Z
LAST-MODIFIED:20250408T050543Z
UID:1009-1749664800-1749668400@zusammen-wachsen.dog
SUMMARY:Begleithunde-Training
DESCRIPTION:An Zoom-Meeting teilnehmen\nhttps://us06web.zoom.us/j/81954367229?pwd=o3LxM0EU8PxbFcyfICRyhvFi3aaLbW.1 \nMeeting-ID: 819 5436 7229\nKenncode: 353231
URL:https://zusammen-wachsen.dog/event/begleithunde-training-7/
LOCATION:Zoom
CATEGORIES:Gruppentraining,Online
END:VEVENT
BEGIN:VEVENT
DTSTART;TZID=Europe/Paris:20250611T190000
DTEND;TZID=Europe/Paris:20250611T200000
DTSTAMP:20260422T152817
CREATED:20250408T051049Z
LAST-MODIFIED:20250408T051049Z
UID:1021-1749668400-1749672000@zusammen-wachsen.dog
SUMMARY:Hundestammtisch
DESCRIPTION:An Zoom-Meeting teilnehmen\nhttps://us06web.zoom.us/j/86053541105?pwd=0ZXdiOEQaswGqirCunfeosTIRMIK7B.1 \nMeeting-ID: 860 5354 1105\nKenncode: 432652
URL:https://zusammen-wachsen.dog/event/hundestammtisch-20/
LOCATION:Zoom
CATEGORIES:Event,Online
END:VEVENT
BEGIN:VEVENT
DTSTART;TZID=Europe/Paris:20250617T160000
DTEND;TZID=Europe/Paris:20250617T190000
DTSTAMP:20260422T152817
CREATED:20250408T051341Z
LAST-MODIFIED:20250408T051341Z
UID:1027-1750176000-1750186800@zusammen-wachsen.dog
SUMMARY:RO-Training
DESCRIPTION:
URL:https://zusammen-wachsen.dog/event/ro-training-58/
LOCATION:Moorenbrunn\, Moorenbrunn\, 90475
CATEGORIES:Gruppentraining
END:VEVENT
BEGIN:VEVENT
DTSTART;TZID=Europe/Paris:20250618T190000
DTEND;TZID=Europe/Paris:20250618T200000
DTSTAMP:20260422T152817
CREATED:20250408T051140Z
LAST-MODIFIED:20250408T051140Z
UID:1023-1750273200-1750276800@zusammen-wachsen.dog
SUMMARY:Hundestammtisch
DESCRIPTION:An Zoom-Meeting teilnehmen\nhttps://us06web.zoom.us/j/86053541105?pwd=0ZXdiOEQaswGqirCunfeosTIRMIK7B.1 \nMeeting-ID: 860 5354 1105\nKenncode: 432652
URL:https://zusammen-wachsen.dog/event/hundestammtisch-21/
LOCATION:Zoom
CATEGORIES:Event,Online
END:VEVENT
BEGIN:VEVENT
DTSTART;TZID=Europe/Paris:20250624T160000
DTEND;TZID=Europe/Paris:20250624T190000
DTSTAMP:20260422T152817
CREATED:20250408T051424Z
LAST-MODIFIED:20250408T051424Z
UID:1029-1750780800-1750791600@zusammen-wachsen.dog
SUMMARY:RO-Training
DESCRIPTION:
URL:https://zusammen-wachsen.dog/event/ro-training-59/
LOCATION:Moorenbrunn\, Moorenbrunn\, 90475
CATEGORIES:Gruppentraining
END:VEVENT
BEGIN:VEVENT
DTSTART;TZID=Europe/Paris:20250625T180000
DTEND;TZID=Europe/Paris:20250625T190000
DTSTAMP:20260422T152817
CREATED:20250408T050636Z
LAST-MODIFIED:20250408T050636Z
UID:1011-1750874400-1750878000@zusammen-wachsen.dog
SUMMARY:Begleithunde-Training
DESCRIPTION:An Zoom-Meeting teilnehmen\nhttps://us06web.zoom.us/j/81954367229?pwd=o3LxM0EU8PxbFcyfICRyhvFi3aaLbW.1 \nMeeting-ID: 819 5436 7229\nKenncode: 353231
URL:https://zusammen-wachsen.dog/event/begleithunde-training-8/
LOCATION:Zoom
CATEGORIES:Gruppentraining,Online
END:VEVENT
BEGIN:VEVENT
DTSTART;TZID=Europe/Paris:20250625T190000
DTEND;TZID=Europe/Paris:20250625T200000
DTSTAMP:20260422T152817
CREATED:20250408T051224Z
LAST-MODIFIED:20250408T051224Z
UID:1025-1750878000-1750881600@zusammen-wachsen.dog
SUMMARY:Hundestammtisch
DESCRIPTION:An Zoom-Meeting teilnehmen\nhttps://us06web.zoom.us/j/86053541105?pwd=0ZXdiOEQaswGqirCunfeosTIRMIK7B.1 \nMeeting-ID: 860 5354 1105\nKenncode: 432652
URL:https://zusammen-wachsen.dog/event/hundestammtisch-22/
LOCATION:Zoom
CATEGORIES:Event,Online
END:VEVENT
BEGIN:VEVENT
DTSTART;TZID=Europe/Paris:20250629T090000
DTEND;TZID=Europe/Paris:20250629T130000
DTSTAMP:20260422T152817
CREATED:20250408T051752Z
LAST-MODIFIED:20250408T051840Z
UID:1037-1751187600-1751202000@zusammen-wachsen.dog
SUMMARY:Wanderung
DESCRIPTION:
URL:https://zusammen-wachsen.dog/event/wanderung-15/
LOCATION:wird mitgeteilt
CATEGORIES:Event
END:VEVENT
END:VCALENDAR