BEGIN:VCALENDAR
VERSION:2.0
PRODID:-//Zusammen Wachsen - ECPv6.15.15//NONSGML v1.0//EN
CALSCALE:GREGORIAN
METHOD:PUBLISH
X-ORIGINAL-URL:https://zusammen-wachsen.dog
X-WR-CALDESC:Veranstaltungen für Zusammen Wachsen
REFRESH-INTERVAL;VALUE=DURATION:PT1H
X-Robots-Tag:noindex
X-PUBLISHED-TTL:PT1H
BEGIN:VTIMEZONE
TZID:Europe/Paris
BEGIN:DAYLIGHT
TZOFFSETFROM:+0100
TZOFFSETTO:+0200
TZNAME:CEST
DTSTART:20240331T010000
END:DAYLIGHT
BEGIN:STANDARD
TZOFFSETFROM:+0200
TZOFFSETTO:+0100
TZNAME:CET
DTSTART:20241027T010000
END:STANDARD
BEGIN:DAYLIGHT
TZOFFSETFROM:+0100
TZOFFSETTO:+0200
TZNAME:CEST
DTSTART:20250330T010000
END:DAYLIGHT
BEGIN:STANDARD
TZOFFSETFROM:+0200
TZOFFSETTO:+0100
TZNAME:CET
DTSTART:20251026T010000
END:STANDARD
BEGIN:DAYLIGHT
TZOFFSETFROM:+0100
TZOFFSETTO:+0200
TZNAME:CEST
DTSTART:20260329T010000
END:DAYLIGHT
BEGIN:STANDARD
TZOFFSETFROM:+0200
TZOFFSETTO:+0100
TZNAME:CET
DTSTART:20261025T010000
END:STANDARD
END:VTIMEZONE
BEGIN:VEVENT
DTSTART;TZID=Europe/Paris:20250805T160000
DTEND;TZID=Europe/Paris:20250805T190000
DTSTAMP:20260422T123817
CREATED:20250707T060422Z
LAST-MODIFIED:20250707T060620Z
UID:1074-1754409600-1754420400@zusammen-wachsen.dog
SUMMARY:RO-Training
DESCRIPTION:
URL:https://zusammen-wachsen.dog/event/ro-training-65/
LOCATION:Moorenbrunn\, Moorenbrunn\, 90475
CATEGORIES:Gruppentraining
END:VEVENT
BEGIN:VEVENT
DTSTART;TZID=Europe/Paris:20250805T190000
DTEND;TZID=Europe/Paris:20250805T200000
DTSTAMP:20260422T123817
CREATED:20250730T083252Z
LAST-MODIFIED:20250730T083252Z
UID:1140-1754420400-1754424000@zusammen-wachsen.dog
SUMMARY:SHS-Training
DESCRIPTION:
URL:https://zusammen-wachsen.dog/event/shs-training-4/
LOCATION:Moorenbrunn\, Moorenbrunn\, 90475
CATEGORIES:Gruppentraining
END:VEVENT
BEGIN:VEVENT
DTSTART;TZID=Europe/Paris:20250806T180000
DTEND;TZID=Europe/Paris:20250806T190000
DTSTAMP:20260422T123817
CREATED:20250707T061625Z
LAST-MODIFIED:20250707T061625Z
UID:1104-1754503200-1754506800@zusammen-wachsen.dog
SUMMARY:Begleithunde-Training
DESCRIPTION:An Zoom-Meeting teilnehmen\nhttps://us06web.zoom.us/j/81954367229?pwd=o3LxM0EU8PxbFcyfICRyhvFi3aaLbW.1 \nMeeting-ID: 819 5436 7229\nKenncode: 353231
URL:https://zusammen-wachsen.dog/event/begleithunde-training-11/
LOCATION:Zoom
CATEGORIES:Gruppentraining,Online
END:VEVENT
BEGIN:VEVENT
DTSTART;TZID=Europe/Paris:20250806T190000
DTEND;TZID=Europe/Paris:20250806T200000
DTSTAMP:20260422T123817
CREATED:20250707T061148Z
LAST-MODIFIED:20250707T061425Z
UID:1092-1754506800-1754510400@zusammen-wachsen.dog
SUMMARY:Hundestammtisch
DESCRIPTION:An Zoom-Meeting teilnehmen\nhttps://us06web.zoom.us/j/86053541105?pwd=0ZXdiOEQaswGqirCunfeosTIRMIK7B.1 \nMeeting-ID: 860 5354 1105\nKenncode: 432652
URL:https://zusammen-wachsen.dog/event/hundestammtisch-28/
LOCATION:Zoom
CATEGORIES:Event,Online
END:VEVENT
BEGIN:VEVENT
DTSTART;TZID=Europe/Paris:20250812T160000
DTEND;TZID=Europe/Paris:20250812T190000
DTSTAMP:20260422T123817
CREATED:20250707T060449Z
LAST-MODIFIED:20250707T060625Z
UID:1076-1755014400-1755025200@zusammen-wachsen.dog
SUMMARY:RO-Training
DESCRIPTION:
URL:https://zusammen-wachsen.dog/event/ro-training-66/
LOCATION:Moorenbrunn\, Moorenbrunn\, 90475
CATEGORIES:Gruppentraining
END:VEVENT
BEGIN:VEVENT
DTSTART;TZID=Europe/Paris:20250812T190000
DTEND;TZID=Europe/Paris:20250812T200000
DTSTAMP:20260422T123817
CREATED:20250730T083326Z
LAST-MODIFIED:20250730T083528Z
UID:1142-1755025200-1755028800@zusammen-wachsen.dog
SUMMARY:SHS-Training
DESCRIPTION:
URL:https://zusammen-wachsen.dog/event/shs-training-5/
LOCATION:Moorenbrunn\, Moorenbrunn\, 90475
CATEGORIES:Gruppentraining
END:VEVENT
BEGIN:VEVENT
DTSTART;TZID=Europe/Paris:20250813T190000
DTEND;TZID=Europe/Paris:20250813T200000
DTSTAMP:20260422T123817
CREATED:20250707T061215Z
LAST-MODIFIED:20250707T061429Z
UID:1094-1755111600-1755115200@zusammen-wachsen.dog
SUMMARY:Hundestammtisch
DESCRIPTION:An Zoom-Meeting teilnehmen\nhttps://us06web.zoom.us/j/86053541105?pwd=0ZXdiOEQaswGqirCunfeosTIRMIK7B.1 \nMeeting-ID: 860 5354 1105\nKenncode: 432652
URL:https://zusammen-wachsen.dog/event/hundestammtisch-29/
LOCATION:Zoom
CATEGORIES:Event,Online
END:VEVENT
BEGIN:VEVENT
DTSTART;TZID=Europe/Paris:20250819T160000
DTEND;TZID=Europe/Paris:20250819T190000
DTSTAMP:20260422T123817
CREATED:20250707T060510Z
LAST-MODIFIED:20250707T060628Z
UID:1078-1755619200-1755630000@zusammen-wachsen.dog
SUMMARY:RO-Training
DESCRIPTION:
URL:https://zusammen-wachsen.dog/event/ro-training-67/
LOCATION:Moorenbrunn\, Moorenbrunn\, 90475
CATEGORIES:Gruppentraining
END:VEVENT
BEGIN:VEVENT
DTSTART;TZID=Europe/Paris:20250819T190000
DTEND;TZID=Europe/Paris:20250819T200000
DTSTAMP:20260422T123817
CREATED:20250730T083359Z
LAST-MODIFIED:20250730T083541Z
UID:1144-1755630000-1755633600@zusammen-wachsen.dog
SUMMARY:SHS-Training
DESCRIPTION:
URL:https://zusammen-wachsen.dog/event/shs-training-6/
LOCATION:Moorenbrunn\, Moorenbrunn\, 90475
CATEGORIES:Gruppentraining
END:VEVENT
BEGIN:VEVENT
DTSTART;TZID=Europe/Paris:20250820T180000
DTEND;TZID=Europe/Paris:20250820T190000
DTSTAMP:20260422T123817
CREATED:20250707T061654Z
LAST-MODIFIED:20250707T061703Z
UID:1106-1755712800-1755716400@zusammen-wachsen.dog
SUMMARY:Begleithunde-Training
DESCRIPTION:An Zoom-Meeting teilnehmen\nhttps://us06web.zoom.us/j/81954367229?pwd=o3LxM0EU8PxbFcyfICRyhvFi3aaLbW.1 \nMeeting-ID: 819 5436 7229\nKenncode: 353231
URL:https://zusammen-wachsen.dog/event/begleithunde-training-12/
LOCATION:Zoom
CATEGORIES:Gruppentraining,Online
END:VEVENT
BEGIN:VEVENT
DTSTART;TZID=Europe/Paris:20250820T190000
DTEND;TZID=Europe/Paris:20250820T200000
DTSTAMP:20260422T123817
CREATED:20250707T061241Z
LAST-MODIFIED:20250707T061433Z
UID:1096-1755716400-1755720000@zusammen-wachsen.dog
SUMMARY:Hundestammtisch
DESCRIPTION:An Zoom-Meeting teilnehmen\nhttps://us06web.zoom.us/j/86053541105?pwd=0ZXdiOEQaswGqirCunfeosTIRMIK7B.1 \nMeeting-ID: 860 5354 1105\nKenncode: 432652
URL:https://zusammen-wachsen.dog/event/hundestammtisch-30/
LOCATION:Zoom
CATEGORIES:Event,Online
END:VEVENT
BEGIN:VEVENT
DTSTART;TZID=Europe/Paris:20250826T160000
DTEND;TZID=Europe/Paris:20250826T190000
DTSTAMP:20260422T123817
CREATED:20250707T060532Z
LAST-MODIFIED:20250707T060632Z
UID:1080-1756224000-1756234800@zusammen-wachsen.dog
SUMMARY:RO-Training
DESCRIPTION:
URL:https://zusammen-wachsen.dog/event/ro-training-68/
LOCATION:Moorenbrunn\, Moorenbrunn\, 90475
CATEGORIES:Gruppentraining
END:VEVENT
BEGIN:VEVENT
DTSTART;TZID=Europe/Paris:20250826T190000
DTEND;TZID=Europe/Paris:20250826T200000
DTSTAMP:20260422T123817
CREATED:20250730T083500Z
LAST-MODIFIED:20250730T083549Z
UID:1146-1756234800-1756238400@zusammen-wachsen.dog
SUMMARY:SHS-Training
DESCRIPTION:
URL:https://zusammen-wachsen.dog/event/shs-training-7/
LOCATION:Moorenbrunn\, Moorenbrunn\, 90475
CATEGORIES:Gruppentraining
END:VEVENT
BEGIN:VEVENT
DTSTART;TZID=Europe/Paris:20250827T190000
DTEND;TZID=Europe/Paris:20250827T200000
DTSTAMP:20260422T123817
CREATED:20250707T061318Z
LAST-MODIFIED:20250707T061436Z
UID:1098-1756321200-1756324800@zusammen-wachsen.dog
SUMMARY:Hundestammtisch
DESCRIPTION:An Zoom-Meeting teilnehmen\nhttps://us06web.zoom.us/j/86053541105?pwd=0ZXdiOEQaswGqirCunfeosTIRMIK7B.1 \nMeeting-ID: 860 5354 1105\nKenncode: 432652
URL:https://zusammen-wachsen.dog/event/hundestammtisch-31/
LOCATION:Zoom
CATEGORIES:Event,Online
END:VEVENT
BEGIN:VEVENT
DTSTART;TZID=Europe/Paris:20250828T180000
DTEND;TZID=Europe/Paris:20250828T190000
DTSTAMP:20260422T123817
CREATED:20250828T080837Z
LAST-MODIFIED:20250828T080921Z
UID:1164-1756404000-1756407600@zusammen-wachsen.dog
SUMMARY:SHS-Training
DESCRIPTION:
URL:https://zusammen-wachsen.dog/event/shs-training-11/
LOCATION:Bayreuth/Pegnitz
CATEGORIES:Gruppentraining
END:VEVENT
END:VCALENDAR