BEGIN:VCALENDAR
VERSION:2.0
PRODID:-//Zusammen Wachsen - ECPv6.15.15//NONSGML v1.0//EN
CALSCALE:GREGORIAN
METHOD:PUBLISH
X-ORIGINAL-URL:https://zusammen-wachsen.dog
X-WR-CALDESC:Veranstaltungen für Zusammen Wachsen
REFRESH-INTERVAL;VALUE=DURATION:PT1H
X-Robots-Tag:noindex
X-PUBLISHED-TTL:PT1H
BEGIN:VTIMEZONE
TZID:Europe/Paris
BEGIN:DAYLIGHT
TZOFFSETFROM:+0100
TZOFFSETTO:+0200
TZNAME:CEST
DTSTART:20240331T010000
END:DAYLIGHT
BEGIN:STANDARD
TZOFFSETFROM:+0200
TZOFFSETTO:+0100
TZNAME:CET
DTSTART:20241027T010000
END:STANDARD
BEGIN:DAYLIGHT
TZOFFSETFROM:+0100
TZOFFSETTO:+0200
TZNAME:CEST
DTSTART:20250330T010000
END:DAYLIGHT
BEGIN:STANDARD
TZOFFSETFROM:+0200
TZOFFSETTO:+0100
TZNAME:CET
DTSTART:20251026T010000
END:STANDARD
BEGIN:DAYLIGHT
TZOFFSETFROM:+0100
TZOFFSETTO:+0200
TZNAME:CEST
DTSTART:20260329T010000
END:DAYLIGHT
BEGIN:STANDARD
TZOFFSETFROM:+0200
TZOFFSETTO:+0100
TZNAME:CET
DTSTART:20261025T010000
END:STANDARD
END:VTIMEZONE
BEGIN:VEVENT
DTSTART;VALUE=DATE:20250927
DTEND;VALUE=DATE:20251005
DTSTAMP:20260420T101012
CREATED:20250102T114109Z
LAST-MODIFIED:20250707T092314Z
UID:899-1758931200-1759622399@zusammen-wachsen.dog
SUMMARY:Trainingsferien in Dänemark
DESCRIPTION:
URL:https://zusammen-wachsen.dog/event/trainingsferien-in-daenemark-2/
LOCATION:wird mitgeteilt
CATEGORIES:Event,Gruppentraining
END:VEVENT
BEGIN:VEVENT
DTSTART;TZID=Europe/Paris:20251007T160000
DTEND;TZID=Europe/Paris:20251007T190000
DTSTAMP:20260420T101012
CREATED:20250828T080450Z
LAST-MODIFIED:20250908T091902Z
UID:1154-1759852800-1759863600@zusammen-wachsen.dog
SUMMARY:RO-Training
DESCRIPTION:
URL:https://zusammen-wachsen.dog/event/ro-training-70/
LOCATION:Moorenbrunn\, Moorenbrunn\, 90475
CATEGORIES:Gruppentraining
END:VEVENT
BEGIN:VEVENT
DTSTART;TZID=Europe/Paris:20251008T190000
DTEND;TZID=Europe/Paris:20251008T200000
DTSTAMP:20260420T101012
CREATED:20250908T092233Z
LAST-MODIFIED:20250908T092533Z
UID:1193-1759950000-1759953600@zusammen-wachsen.dog
SUMMARY:Hundestammtisch
DESCRIPTION:An Zoom-Meeting teilnehmen\nhttps://us06web.zoom.us/j/86053541105?pwd=0ZXdiOEQaswGqirCunfeosTIRMIK7B.1 \nMeeting-ID: 860 5354 1105\nKenncode: 432652
URL:https://zusammen-wachsen.dog/event/hundestammtisch-36/
LOCATION:Zoom
CATEGORIES:Event,Online
END:VEVENT
BEGIN:VEVENT
DTSTART;TZID=Europe/Paris:20251009T160000
DTEND;TZID=Europe/Paris:20251009T170000
DTSTAMP:20260420T101012
CREATED:20250908T091746Z
LAST-MODIFIED:20250908T092604Z
UID:1185-1760025600-1760029200@zusammen-wachsen.dog
SUMMARY:Minddog
DESCRIPTION:
URL:https://zusammen-wachsen.dog/event/minddog-48/
LOCATION:Bayreuth/Pegnitz
CATEGORIES:Gruppentraining
END:VEVENT
BEGIN:VEVENT
DTSTART;TZID=Europe/Paris:20251009T180000
DTEND;TZID=Europe/Paris:20251009T190000
DTSTAMP:20260420T101012
CREATED:20250908T092704Z
LAST-MODIFIED:20250908T092704Z
UID:1201-1760032800-1760036400@zusammen-wachsen.dog
SUMMARY:SHS-Training
DESCRIPTION:
URL:https://zusammen-wachsen.dog/event/shs-training-9/
LOCATION:Bayreuth/Pegnitz
CATEGORIES:Gruppentraining
END:VEVENT
BEGIN:VEVENT
DTSTART;TZID=Europe/Paris:20251014T160000
DTEND;TZID=Europe/Paris:20251014T190000
DTSTAMP:20260420T101012
CREATED:20250908T091943Z
LAST-MODIFIED:20250908T092046Z
UID:1187-1760457600-1760468400@zusammen-wachsen.dog
SUMMARY:RO-Training
DESCRIPTION:
URL:https://zusammen-wachsen.dog/event/ro-training-73/
LOCATION:Moorenbrunn\, Moorenbrunn\, 90475
CATEGORIES:Gruppentraining
END:VEVENT
BEGIN:VEVENT
DTSTART;TZID=Europe/Paris:20251015T190000
DTEND;TZID=Europe/Paris:20251015T200000
DTSTAMP:20260420T101012
CREATED:20250908T092313Z
LAST-MODIFIED:20250908T092537Z
UID:1195-1760554800-1760558400@zusammen-wachsen.dog
SUMMARY:Hundestammtisch
DESCRIPTION:An Zoom-Meeting teilnehmen\nhttps://us06web.zoom.us/j/86053541105?pwd=0ZXdiOEQaswGqirCunfeosTIRMIK7B.1 \nMeeting-ID: 860 5354 1105\nKenncode: 432652
URL:https://zusammen-wachsen.dog/event/hundestammtisch-37/
LOCATION:Zoom
CATEGORIES:Event,Online
END:VEVENT
BEGIN:VEVENT
DTSTART;TZID=Europe/Paris:20251016T160000
DTEND;TZID=Europe/Paris:20251016T170000
DTSTAMP:20260420T101012
CREATED:20250908T095157Z
LAST-MODIFIED:20250908T095203Z
UID:1205-1760630400-1760634000@zusammen-wachsen.dog
SUMMARY:Minddog
DESCRIPTION:
URL:https://zusammen-wachsen.dog/event/minddog-49/
LOCATION:Bayreuth/Pegnitz
CATEGORIES:Gruppentraining
END:VEVENT
BEGIN:VEVENT
DTSTART;TZID=Europe/Paris:20251021T160000
DTEND;TZID=Europe/Paris:20251021T190000
DTSTAMP:20260420T101012
CREATED:20250908T092006Z
LAST-MODIFIED:20250908T092052Z
UID:1189-1761062400-1761073200@zusammen-wachsen.dog
SUMMARY:RO-Training
DESCRIPTION:
URL:https://zusammen-wachsen.dog/event/ro-training-74/
LOCATION:Moorenbrunn\, Moorenbrunn\, 90475
CATEGORIES:Gruppentraining
END:VEVENT
BEGIN:VEVENT
DTSTART;TZID=Europe/Paris:20251022T190000
DTEND;TZID=Europe/Paris:20251022T200000
DTSTAMP:20260420T101012
CREATED:20250908T092410Z
LAST-MODIFIED:20250908T092544Z
UID:1197-1761159600-1761163200@zusammen-wachsen.dog
SUMMARY:Hundestammtisch
DESCRIPTION:An Zoom-Meeting teilnehmen\nhttps://us06web.zoom.us/j/86053541105?pwd=0ZXdiOEQaswGqirCunfeosTIRMIK7B.1 \nMeeting-ID: 860 5354 1105\nKenncode: 432652
URL:https://zusammen-wachsen.dog/event/hundestammtisch-38/
LOCATION:Zoom
CATEGORIES:Event,Online
END:VEVENT
BEGIN:VEVENT
DTSTART;TZID=Europe/Paris:20251023T160000
DTEND;TZID=Europe/Paris:20251023T170000
DTSTAMP:20260420T101012
CREATED:20250908T095224Z
LAST-MODIFIED:20250908T095224Z
UID:1207-1761235200-1761238800@zusammen-wachsen.dog
SUMMARY:Minddog
DESCRIPTION:
URL:https://zusammen-wachsen.dog/event/minddog-50/
LOCATION:Bayreuth/Pegnitz
CATEGORIES:Gruppentraining
END:VEVENT
BEGIN:VEVENT
DTSTART;TZID=Europe/Paris:20251023T180000
DTEND;TZID=Europe/Paris:20251023T190000
DTSTAMP:20260420T101012
CREATED:20250908T092736Z
LAST-MODIFIED:20250908T092736Z
UID:1203-1761242400-1761246000@zusammen-wachsen.dog
SUMMARY:SHS-Training
DESCRIPTION:
URL:https://zusammen-wachsen.dog/event/shs-training-14/
LOCATION:Bayreuth/Pegnitz
CATEGORIES:Gruppentraining
END:VEVENT
BEGIN:VEVENT
DTSTART;TZID=Europe/Paris:20251028T160000
DTEND;TZID=Europe/Paris:20251028T190000
DTSTAMP:20260420T101012
CREATED:20250908T092028Z
LAST-MODIFIED:20250908T092056Z
UID:1191-1761667200-1761678000@zusammen-wachsen.dog
SUMMARY:RO-Training
DESCRIPTION:
URL:https://zusammen-wachsen.dog/event/ro-training-75/
LOCATION:Moorenbrunn\, Moorenbrunn\, 90475
CATEGORIES:Gruppentraining
END:VEVENT
BEGIN:VEVENT
DTSTART;TZID=Europe/Paris:20251029T190000
DTEND;TZID=Europe/Paris:20251029T200000
DTSTAMP:20260420T101012
CREATED:20250908T092451Z
LAST-MODIFIED:20250908T092547Z
UID:1199-1761764400-1761768000@zusammen-wachsen.dog
SUMMARY:Hundestammtisch
DESCRIPTION:An Zoom-Meeting teilnehmen\nhttps://us06web.zoom.us/j/86053541105?pwd=0ZXdiOEQaswGqirCunfeosTIRMIK7B.1 \nMeeting-ID: 860 5354 1105\nKenncode: 432652
URL:https://zusammen-wachsen.dog/event/hundestammtisch-39/
LOCATION:Zoom
CATEGORIES:Event,Online
END:VEVENT
BEGIN:VEVENT
DTSTART;TZID=Europe/Paris:20251030T160000
DTEND;TZID=Europe/Paris:20251030T170000
DTSTAMP:20260420T101012
CREATED:20250908T095245Z
LAST-MODIFIED:20250908T095245Z
UID:1209-1761840000-1761843600@zusammen-wachsen.dog
SUMMARY:Minddog
DESCRIPTION:
URL:https://zusammen-wachsen.dog/event/minddog-51/
LOCATION:Bayreuth/Pegnitz
CATEGORIES:Gruppentraining
END:VEVENT
END:VCALENDAR