BEGIN:VCALENDAR
VERSION:2.0
PRODID:-//Zusammen Wachsen - ECPv6.15.15//NONSGML v1.0//EN
CALSCALE:GREGORIAN
METHOD:PUBLISH
X-ORIGINAL-URL:https://zusammen-wachsen.dog
X-WR-CALDESC:Veranstaltungen für Zusammen Wachsen
REFRESH-INTERVAL;VALUE=DURATION:PT1H
X-Robots-Tag:noindex
X-PUBLISHED-TTL:PT1H
BEGIN:VTIMEZONE
TZID:Europe/Paris
BEGIN:DAYLIGHT
TZOFFSETFROM:+0100
TZOFFSETTO:+0200
TZNAME:CEST
DTSTART:20230326T010000
END:DAYLIGHT
BEGIN:STANDARD
TZOFFSETFROM:+0200
TZOFFSETTO:+0100
TZNAME:CET
DTSTART:20231029T010000
END:STANDARD
BEGIN:DAYLIGHT
TZOFFSETFROM:+0100
TZOFFSETTO:+0200
TZNAME:CEST
DTSTART:20240331T010000
END:DAYLIGHT
BEGIN:STANDARD
TZOFFSETFROM:+0200
TZOFFSETTO:+0100
TZNAME:CET
DTSTART:20241027T010000
END:STANDARD
BEGIN:DAYLIGHT
TZOFFSETFROM:+0100
TZOFFSETTO:+0200
TZNAME:CEST
DTSTART:20250330T010000
END:DAYLIGHT
BEGIN:STANDARD
TZOFFSETFROM:+0200
TZOFFSETTO:+0100
TZNAME:CET
DTSTART:20251026T010000
END:STANDARD
END:VTIMEZONE
BEGIN:VEVENT
DTSTART;TZID=Europe/Paris:20240806T160000
DTEND;TZID=Europe/Paris:20240806T180000
DTSTAMP:20260423T123406
CREATED:20240719T053456Z
LAST-MODIFIED:20240719T053456Z
UID:744-1722960000-1722967200@zusammen-wachsen.dog
SUMMARY:RO-Training
DESCRIPTION:
URL:https://zusammen-wachsen.dog/event/ro-training-30/
LOCATION:Moorenbrunn\, Moorenbrunn\, 90475
CATEGORIES:Gruppentraining
END:VEVENT
BEGIN:VEVENT
DTSTART;TZID=Europe/Paris:20240810T070000
DTEND;TZID=Europe/Paris:20240810T110000
DTSTAMP:20260423T123406
CREATED:20240719T050045Z
LAST-MODIFIED:20240719T050956Z
UID:735-1723273200-1723287600@zusammen-wachsen.dog
SUMMARY:SUP mit/ohne Hund
DESCRIPTION:
URL:https://zusammen-wachsen.dog/event/sup-mit-hund/
LOCATION:wird mitgeteilt
CATEGORIES:Event
END:VEVENT
BEGIN:VEVENT
DTSTART;TZID=Europe/Paris:20240813T160000
DTEND;TZID=Europe/Paris:20240813T180000
DTSTAMP:20260423T123406
CREATED:20240719T053537Z
LAST-MODIFIED:20240719T053537Z
UID:746-1723564800-1723572000@zusammen-wachsen.dog
SUMMARY:RO-Training
DESCRIPTION:
URL:https://zusammen-wachsen.dog/event/ro-training-31/
LOCATION:Moorenbrunn\, Moorenbrunn\, 90475
CATEGORIES:Gruppentraining
END:VEVENT
BEGIN:VEVENT
DTSTART;TZID=Europe/Paris:20240820T160000
DTEND;TZID=Europe/Paris:20240820T180000
DTSTAMP:20260423T123406
CREATED:20240719T053610Z
LAST-MODIFIED:20240719T053610Z
UID:748-1724169600-1724176800@zusammen-wachsen.dog
SUMMARY:RO-Training
DESCRIPTION:
URL:https://zusammen-wachsen.dog/event/ro-training-32/
LOCATION:Moorenbrunn\, Moorenbrunn\, 90475
CATEGORIES:Gruppentraining
END:VEVENT
BEGIN:VEVENT
DTSTART;TZID=Europe/Paris:20240822T163000
DTEND;TZID=Europe/Paris:20240822T190000
DTSTAMP:20260423T123406
CREATED:20240719T054003Z
LAST-MODIFIED:20240719T054003Z
UID:758-1724344200-1724353200@zusammen-wachsen.dog
SUMMARY:Minddog
DESCRIPTION:
URL:https://zusammen-wachsen.dog/event/minddog-41/
LOCATION:HSG Nürnberg Land e.V.\, Altdorf\, Deutschland
CATEGORIES:Gruppentraining
END:VEVENT
BEGIN:VEVENT
DTSTART;TZID=Europe/Paris:20240827T160000
DTEND;TZID=Europe/Paris:20240827T180000
DTSTAMP:20260423T123406
CREATED:20240719T053658Z
LAST-MODIFIED:20240719T053658Z
UID:750-1724774400-1724781600@zusammen-wachsen.dog
SUMMARY:RO-Training
DESCRIPTION:
URL:https://zusammen-wachsen.dog/event/ro-training-33/
LOCATION:Moorenbrunn\, Moorenbrunn\, 90475
CATEGORIES:Gruppentraining
END:VEVENT
END:VCALENDAR