BEGIN:VCALENDAR
VERSION:2.0
PRODID:-//Zusammen Wachsen - ECPv6.15.15//NONSGML v1.0//EN
CALSCALE:GREGORIAN
METHOD:PUBLISH
X-WR-CALNAME:Zusammen Wachsen
X-ORIGINAL-URL:https://zusammen-wachsen.dog
X-WR-CALDESC:Veranstaltungen für Zusammen Wachsen
REFRESH-INTERVAL;VALUE=DURATION:PT1H
X-Robots-Tag:noindex
X-PUBLISHED-TTL:PT1H
BEGIN:VTIMEZONE
TZID:Europe/Paris
BEGIN:DAYLIGHT
TZOFFSETFROM:+0100
TZOFFSETTO:+0200
TZNAME:CEST
DTSTART:20240331T010000
END:DAYLIGHT
BEGIN:STANDARD
TZOFFSETFROM:+0200
TZOFFSETTO:+0100
TZNAME:CET
DTSTART:20241027T010000
END:STANDARD
BEGIN:DAYLIGHT
TZOFFSETFROM:+0100
TZOFFSETTO:+0200
TZNAME:CEST
DTSTART:20250330T010000
END:DAYLIGHT
BEGIN:STANDARD
TZOFFSETFROM:+0200
TZOFFSETTO:+0100
TZNAME:CET
DTSTART:20251026T010000
END:STANDARD
BEGIN:DAYLIGHT
TZOFFSETFROM:+0100
TZOFFSETTO:+0200
TZNAME:CEST
DTSTART:20260329T010000
END:DAYLIGHT
BEGIN:STANDARD
TZOFFSETFROM:+0200
TZOFFSETTO:+0100
TZNAME:CET
DTSTART:20261025T010000
END:STANDARD
END:VTIMEZONE
BEGIN:VEVENT
DTSTART;TZID=Europe/Paris:20250805T160000
DTEND;TZID=Europe/Paris:20250805T190000
DTSTAMP:20260422T210631
CREATED:20250707T060422Z
LAST-MODIFIED:20250707T060620Z
UID:1074-1754409600-1754420400@zusammen-wachsen.dog
SUMMARY:RO-Training
DESCRIPTION:
URL:https://zusammen-wachsen.dog/event/ro-training-65/
LOCATION:Moorenbrunn\, Moorenbrunn\, 90475
CATEGORIES:Gruppentraining
END:VEVENT
BEGIN:VEVENT
DTSTART;TZID=Europe/Paris:20250812T160000
DTEND;TZID=Europe/Paris:20250812T190000
DTSTAMP:20260422T210631
CREATED:20250707T060449Z
LAST-MODIFIED:20250707T060625Z
UID:1076-1755014400-1755025200@zusammen-wachsen.dog
SUMMARY:RO-Training
DESCRIPTION:
URL:https://zusammen-wachsen.dog/event/ro-training-66/
LOCATION:Moorenbrunn\, Moorenbrunn\, 90475
CATEGORIES:Gruppentraining
END:VEVENT
BEGIN:VEVENT
DTSTART;TZID=Europe/Paris:20250819T160000
DTEND;TZID=Europe/Paris:20250819T190000
DTSTAMP:20260422T210631
CREATED:20250707T060510Z
LAST-MODIFIED:20250707T060628Z
UID:1078-1755619200-1755630000@zusammen-wachsen.dog
SUMMARY:RO-Training
DESCRIPTION:
URL:https://zusammen-wachsen.dog/event/ro-training-67/
LOCATION:Moorenbrunn\, Moorenbrunn\, 90475
CATEGORIES:Gruppentraining
END:VEVENT
BEGIN:VEVENT
DTSTART;TZID=Europe/Paris:20250826T160000
DTEND;TZID=Europe/Paris:20250826T190000
DTSTAMP:20260422T210631
CREATED:20250707T060532Z
LAST-MODIFIED:20250707T060632Z
UID:1080-1756224000-1756234800@zusammen-wachsen.dog
SUMMARY:RO-Training
DESCRIPTION:
URL:https://zusammen-wachsen.dog/event/ro-training-68/
LOCATION:Moorenbrunn\, Moorenbrunn\, 90475
CATEGORIES:Gruppentraining
END:VEVENT
END:VCALENDAR